BEGIN:VCALENDAR
VERSION:2.0
PRODID:-//Evergreen Virtual Academy - ECPv6.15.20//NONSGML v1.0//EN
CALSCALE:GREGORIAN
METHOD:PUBLISH
X-ORIGINAL-URL:https://evergreenvirtual.org
X-WR-CALDESC:Events for Evergreen Virtual Academy
REFRESH-INTERVAL;VALUE=DURATION:PT1H
X-Robots-Tag:noindex
X-PUBLISHED-TTL:PT1H
BEGIN:VTIMEZONE
TZID:America/Los_Angeles
BEGIN:DAYLIGHT
TZOFFSETFROM:-0800
TZOFFSETTO:-0700
TZNAME:PDT
DTSTART:20230312T100000
END:DAYLIGHT
BEGIN:STANDARD
TZOFFSETFROM:-0700
TZOFFSETTO:-0800
TZNAME:PST
DTSTART:20231105T090000
END:STANDARD
BEGIN:DAYLIGHT
TZOFFSETFROM:-0800
TZOFFSETTO:-0700
TZNAME:PDT
DTSTART:20240310T100000
END:DAYLIGHT
BEGIN:STANDARD
TZOFFSETFROM:-0700
TZOFFSETTO:-0800
TZNAME:PST
DTSTART:20241103T090000
END:STANDARD
BEGIN:DAYLIGHT
TZOFFSETFROM:-0800
TZOFFSETTO:-0700
TZNAME:PDT
DTSTART:20250309T100000
END:DAYLIGHT
BEGIN:STANDARD
TZOFFSETFROM:-0700
TZOFFSETTO:-0800
TZNAME:PST
DTSTART:20251102T090000
END:STANDARD
END:VTIMEZONE
BEGIN:VEVENT
DTSTART;VALUE=DATE:20240823
DTEND;VALUE=DATE:20240824
DTSTAMP:20260423T102223
CREATED:20240911T192834Z
LAST-MODIFIED:20240911T192834Z
UID:10000062-1724371200-1724457599@evergreenvirtual.org
SUMMARY:Enrollment Approval Deadline
DESCRIPTION:EVA welcomes new student cohorts each week.  In order to support a strong start for each student\, all documents must be submitted by end of day each Friday.  Students will start with their onboarding cohort the following Wednesday.
URL:https://evergreenvirtual.org/calendar/enrollment-approval-deadline/2024-08-23/
END:VEVENT
BEGIN:VEVENT
DTSTART;TZID=America/Los_Angeles:20240823T120000
DTEND;TZID=America/Los_Angeles:20240823T200000
DTSTAMP:20260423T102223
CREATED:20240626T173331Z
LAST-MODIFIED:20240626T173331Z
UID:10000031-1724414400-1724443200@evergreenvirtual.org
SUMMARY:Northwest Air & Art Festival
DESCRIPTION:Come see our amazing staff and check out the EVA booth this weekend for some fun take-a-ways and learn more about our school!
URL:https://evergreenvirtual.org/calendar/northwest-air-art-festival/2024-08-23/
LOCATION:Timber-Linn Memorial Park\, 900 Price Rd SE\, Albany\, OR\, 97322\, United States
END:VEVENT
BEGIN:VEVENT
DTSTART;TZID=America/Los_Angeles:20240823T160000
DTEND;TZID=America/Los_Angeles:20240823T170000
DTSTAMP:20260423T102223
CREATED:20240807T210242Z
LAST-MODIFIED:20240807T210242Z
UID:10000043-1724428800-1724432400@evergreenvirtual.org
SUMMARY:Early Orientation
DESCRIPTION:We want to make sure you have a strong start to the school year and have the knowledge and tools needed to feel confident on your first day of school. We look forward to seeing you at one of our sessions where we will cover: \n\nHow to use Zoom classroom tools\nStudent and learning coach expectations\nHow to use Canvas (our online learning platform)\nWhat to expect during your first week of school (our Week of Welcome)\n\nThe link and orientation information are the same for each session.  Join HERE to attend one of our listed sessions.
URL:https://evergreenvirtual.org/calendar/early-orientation/2024-08-23/
END:VEVENT
BEGIN:VEVENT
DTSTART;TZID=America/Los_Angeles:20240823T190000
DTEND;TZID=America/Los_Angeles:20240823T213000
DTSTAMP:20260423T102223
CREATED:20240626T173033Z
LAST-MODIFIED:20240626T205745Z
UID:10000030-1724439600-1724448600@evergreenvirtual.org
SUMMARY:Hillsboro Hops
DESCRIPTION:Come see our amazing staff and check out the EVA booth this weekend for some fun take-a-ways and learn more about our school!
URL:https://evergreenvirtual.org/calendar/hillsboro-hops-2/
LOCATION:Hillsboro Hops\, 4460 NE Century Blvd\, Hillsboro\, OR\, 97124\, United States
END:VEVENT
END:VCALENDAR