BEGIN:VCALENDAR
VERSION:2.0
PRODID:-//Evergreen Virtual Academy - ECPv6.15.20//NONSGML v1.0//EN
CALSCALE:GREGORIAN
METHOD:PUBLISH
X-ORIGINAL-URL:https://evergreenvirtual.org
X-WR-CALDESC:Events for Evergreen Virtual Academy
REFRESH-INTERVAL;VALUE=DURATION:PT1H
X-Robots-Tag:noindex
X-PUBLISHED-TTL:PT1H
BEGIN:VTIMEZONE
TZID:America/Los_Angeles
BEGIN:DAYLIGHT
TZOFFSETFROM:-0800
TZOFFSETTO:-0700
TZNAME:PDT
DTSTART:20230312T100000
END:DAYLIGHT
BEGIN:STANDARD
TZOFFSETFROM:-0700
TZOFFSETTO:-0800
TZNAME:PST
DTSTART:20231105T090000
END:STANDARD
BEGIN:DAYLIGHT
TZOFFSETFROM:-0800
TZOFFSETTO:-0700
TZNAME:PDT
DTSTART:20240310T100000
END:DAYLIGHT
BEGIN:STANDARD
TZOFFSETFROM:-0700
TZOFFSETTO:-0800
TZNAME:PST
DTSTART:20241103T090000
END:STANDARD
BEGIN:DAYLIGHT
TZOFFSETFROM:-0800
TZOFFSETTO:-0700
TZNAME:PDT
DTSTART:20250309T100000
END:DAYLIGHT
BEGIN:STANDARD
TZOFFSETFROM:-0700
TZOFFSETTO:-0800
TZNAME:PST
DTSTART:20251102T090000
END:STANDARD
END:VTIMEZONE
BEGIN:VEVENT
DTSTART;VALUE=DATE:20240913
DTEND;VALUE=DATE:20240914
DTSTAMP:20260423T054259
CREATED:20240602T171754Z
LAST-MODIFIED:20240906T152721Z
UID:10000010-1726185600-1726271999@evergreenvirtual.org
SUMMARY:EVA Family Game Night - Portland Thorns Soccer Match
DESCRIPTION:Sign up to attend the Portland Thorns Soccer match with us HERE! Choose between 3 different ticket options: attend only\, sit on players bench for warm up time\, participate in a pre-game scrimmage (the last two are student only). We hope to see you there!
URL:https://evergreenvirtual.org/calendar/eva-family-game-night/
END:VEVENT
BEGIN:VEVENT
DTSTART;VALUE=DATE:20240913
DTEND;VALUE=DATE:20240914
DTSTAMP:20260423T054259
CREATED:20240911T192834Z
LAST-MODIFIED:20240911T192834Z
UID:10000065-1726185600-1726271999@evergreenvirtual.org
SUMMARY:Enrollment Approval Deadline
DESCRIPTION:EVA welcomes new student cohorts each week.  In order to support a strong start for each student\, all documents must be submitted by end of day each Friday.  Students will start with their onboarding cohort the following Wednesday.
URL:https://evergreenvirtual.org/calendar/enrollment-approval-deadline/2024-09-13/
END:VEVENT
END:VCALENDAR