BEGIN:VCALENDAR
VERSION:2.0
PRODID:-//Evergreen Virtual Academy - ECPv6.15.20//NONSGML v1.0//EN
CALSCALE:GREGORIAN
METHOD:PUBLISH
X-WR-CALNAME:Evergreen Virtual Academy
X-ORIGINAL-URL:https://evergreenvirtual.org
X-WR-CALDESC:Events for Evergreen Virtual Academy
REFRESH-INTERVAL;VALUE=DURATION:PT1H
X-Robots-Tag:noindex
X-PUBLISHED-TTL:PT1H
BEGIN:VTIMEZONE
TZID:America/Los_Angeles
BEGIN:DAYLIGHT
TZOFFSETFROM:-0800
TZOFFSETTO:-0700
TZNAME:PDT
DTSTART:20230312T100000
END:DAYLIGHT
BEGIN:STANDARD
TZOFFSETFROM:-0700
TZOFFSETTO:-0800
TZNAME:PST
DTSTART:20231105T090000
END:STANDARD
BEGIN:DAYLIGHT
TZOFFSETFROM:-0800
TZOFFSETTO:-0700
TZNAME:PDT
DTSTART:20240310T100000
END:DAYLIGHT
BEGIN:STANDARD
TZOFFSETFROM:-0700
TZOFFSETTO:-0800
TZNAME:PST
DTSTART:20241103T090000
END:STANDARD
BEGIN:DAYLIGHT
TZOFFSETFROM:-0800
TZOFFSETTO:-0700
TZNAME:PDT
DTSTART:20250309T100000
END:DAYLIGHT
BEGIN:STANDARD
TZOFFSETFROM:-0700
TZOFFSETTO:-0800
TZNAME:PST
DTSTART:20251102T090000
END:STANDARD
END:VTIMEZONE
BEGIN:VEVENT
DTSTART;VALUE=DATE:20241010
DTEND;VALUE=DATE:20241011
DTSTAMP:20260423T021553
CREATED:20240602T172137Z
LAST-MODIFIED:20240927T171927Z
UID:10000011-1728518400-1728604799@evergreenvirtual.org
SUMMARY:EVA Open House
DESCRIPTION:Join us for an afternoon of Evergreen Aviation Museum exploration.  Meet our EVA staff and your EVA community.  We will have a student portrait station set up\, activities\, and refreshments.  We hope to see you there!
URL:https://evergreenvirtual.org/calendar/eva-open-house/
CATEGORIES:Outings
END:VEVENT
BEGIN:VEVENT
DTSTART;VALUE=DATE:20241010
DTEND;VALUE=DATE:20241012
DTSTAMP:20260423T021553
CREATED:20240829T185159Z
LAST-MODIFIED:20240927T171926Z
UID:10000053-1728518400-1728691199@evergreenvirtual.org
SUMMARY:No School - Teacher Professional Development
DESCRIPTION:
URL:https://evergreenvirtual.org/calendar/no-school-teacher-professional-development/
CATEGORIES:Outings
END:VEVENT
END:VCALENDAR