BEGIN:VCALENDAR
VERSION:2.0
PRODID:-//Evergreen Virtual Academy - ECPv6.15.20//NONSGML v1.0//EN
CALSCALE:GREGORIAN
METHOD:PUBLISH
X-ORIGINAL-URL:https://evergreenvirtual.org
X-WR-CALDESC:Events for Evergreen Virtual Academy
REFRESH-INTERVAL;VALUE=DURATION:PT1H
X-Robots-Tag:noindex
X-PUBLISHED-TTL:PT1H
BEGIN:VTIMEZONE
TZID:America/Los_Angeles
BEGIN:DAYLIGHT
TZOFFSETFROM:-0800
TZOFFSETTO:-0700
TZNAME:PDT
DTSTART:20230312T100000
END:DAYLIGHT
BEGIN:STANDARD
TZOFFSETFROM:-0700
TZOFFSETTO:-0800
TZNAME:PST
DTSTART:20231105T090000
END:STANDARD
BEGIN:DAYLIGHT
TZOFFSETFROM:-0800
TZOFFSETTO:-0700
TZNAME:PDT
DTSTART:20240310T100000
END:DAYLIGHT
BEGIN:STANDARD
TZOFFSETFROM:-0700
TZOFFSETTO:-0800
TZNAME:PST
DTSTART:20241103T090000
END:STANDARD
BEGIN:DAYLIGHT
TZOFFSETFROM:-0800
TZOFFSETTO:-0700
TZNAME:PDT
DTSTART:20250309T100000
END:DAYLIGHT
BEGIN:STANDARD
TZOFFSETFROM:-0700
TZOFFSETTO:-0800
TZNAME:PST
DTSTART:20251102T090000
END:STANDARD
END:VTIMEZONE
BEGIN:VEVENT
DTSTART;VALUE=DATE:20241209
DTEND;VALUE=DATE:20241210
DTSTAMP:20260423T124246
CREATED:20241119T225306Z
LAST-MODIFIED:20241119T225306Z
UID:10000162-1733702400-1733788799@evergreenvirtual.org
SUMMARY:Elementary Spelling Bee @ 2PM
DESCRIPTION:Please check your canvas calendar for class link.  Reach out to your Engagement Coach if you have questions.
URL:https://evergreenvirtual.org/calendar/elementary-spelling-bee-2pm/
END:VEVENT
BEGIN:VEVENT
DTSTART;VALUE=DATE:20241209
DTEND;VALUE=DATE:20241210
DTSTAMP:20260423T124246
CREATED:20241120T214405Z
LAST-MODIFIED:20241120T214838Z
UID:10000164-1733702400-1733788799@evergreenvirtual.org
SUMMARY:7-8th Grade Winter Painting Virtual EVenture @ 12 PM
DESCRIPTION:Be sure to sign up before December 4th to secure your spot.  You can find a link to the ticket in our Activities Corner.  Check your Canvas calendar for the link to attend on the day & time of this event.
URL:https://evergreenvirtual.org/calendar/7-8th-grade-winter-painting-virtual-eventure-12-pm/
END:VEVENT
END:VCALENDAR