BEGIN:VCALENDAR
VERSION:2.0
PRODID:-//Evergreen Virtual Academy - ECPv6.15.20//NONSGML v1.0//EN
CALSCALE:GREGORIAN
METHOD:PUBLISH
X-WR-CALNAME:Evergreen Virtual Academy
X-ORIGINAL-URL:https://evergreenvirtual.org
X-WR-CALDESC:Events for Evergreen Virtual Academy
REFRESH-INTERVAL;VALUE=DURATION:PT1H
X-Robots-Tag:noindex
X-PUBLISHED-TTL:PT1H
BEGIN:VTIMEZONE
TZID:America/Los_Angeles
BEGIN:DAYLIGHT
TZOFFSETFROM:-0800
TZOFFSETTO:-0700
TZNAME:PDT
DTSTART:20250309T100000
END:DAYLIGHT
BEGIN:STANDARD
TZOFFSETFROM:-0700
TZOFFSETTO:-0800
TZNAME:PST
DTSTART:20251102T090000
END:STANDARD
BEGIN:DAYLIGHT
TZOFFSETFROM:-0800
TZOFFSETTO:-0700
TZNAME:PDT
DTSTART:20260308T100000
END:DAYLIGHT
BEGIN:STANDARD
TZOFFSETFROM:-0700
TZOFFSETTO:-0800
TZNAME:PST
DTSTART:20261101T090000
END:STANDARD
BEGIN:DAYLIGHT
TZOFFSETFROM:-0800
TZOFFSETTO:-0700
TZNAME:PDT
DTSTART:20270314T100000
END:DAYLIGHT
BEGIN:STANDARD
TZOFFSETFROM:-0700
TZOFFSETTO:-0800
TZNAME:PST
DTSTART:20271107T090000
END:STANDARD
END:VTIMEZONE
BEGIN:VEVENT
DTSTART;VALUE=DATE:20260226
DTEND;VALUE=DATE:20260227
DTSTAMP:20260420T164849
CREATED:20260123T201106Z
LAST-MODIFIED:20260123T201403Z
UID:10000426-1772064000-1772150399@evergreenvirtual.org
SUMMARY:EVA Board Meeting @ 6 pm
DESCRIPTION:You are invited to a Zoom webinar. \nWhen: The EVA Board of Directors monthly meetings are the fourth Thursday of each month at 6:00pm. Board work sessions are the second Thursday of each month.* \nTopic: EVA Board Meeting \n  \nPlease click the link below to join the webinar: \nJoin from PC\, Mac\, iPad\, or Android:\nhttps://evergreenvirtual-org.zoom.us/j/87931930355
URL:https://evergreenvirtual.org/calendar/eva-board-meeting-6-pm/
END:VEVENT
BEGIN:VEVENT
DTSTART;VALUE=DATE:20260312
DTEND;VALUE=DATE:20260313
DTSTAMP:20260420T164849
CREATED:20260123T201332Z
LAST-MODIFIED:20260227T022513Z
UID:10000427-1773273600-1773359999@evergreenvirtual.org
SUMMARY:EVA Board Meeting @ 6 pm
DESCRIPTION:You are invited to a Zoom webinar. \nWhen: The EVA Board of Directors monthly meetings are the fourth Thursday of each month at 6:00pm. Board work sessions are the second Thursday of each month.*  Due to Spring Break this meeting date has been updated to the second Thursday\, March 12th.  The EVA Board of Directors will not hold a Board work session meeting in the month of March. \nTopic: EVA Board Meeting \n  \nPlease click the link below to join the webinar: \nJoin from PC\, Mac\, iPad\, or Android:\nhttps://evergreenvirtual-org.zoom.us/j/87931930355
URL:https://evergreenvirtual.org/calendar/eva-board-meeting-6-pm-2/
END:VEVENT
BEGIN:VEVENT
DTSTART;TZID=America/Los_Angeles:20260313T140000
DTEND;TZID=America/Los_Angeles:20260313T153000
DTSTAMP:20260420T164849
CREATED:20250711T215704Z
LAST-MODIFIED:20251205T190434Z
UID:10000367-1773410400-1773415800@evergreenvirtual.org
SUMMARY:Spring Zoo EVenture @ 2 PM
DESCRIPTION:Join us while we make connections\, build our EVA community\, and explore the Oregon Zoo in Portland.  Please see our Activities Corner for details as it gets closer to this event. \nLocation: \nWashington Park – Oregon Zoo \n4001 SW Canyon Rd \nPortland\, OR 97221
URL:https://evergreenvirtual.org/calendar/spring-zoo-eventure-2-pm/
END:VEVENT
BEGIN:VEVENT
DTSTART;TZID=America/Los_Angeles:20260403T140000
DTEND;TZID=America/Los_Angeles:20260403T153000
DTSTAMP:20260420T164849
CREATED:20250711T220727Z
LAST-MODIFIED:20260309T001241Z
UID:10000372-1775224800-1775230200@evergreenvirtual.org
SUMMARY:Oregon Adventure EVentures
DESCRIPTION:Join us while we make connections\, build our EVA community\, and have fun exploring Oregon adventure locations listed below.  You will need to choose which adventure to attend.  Times for each location vary. Please see our Activities Corner for details. \nLocations: \nWildlife Safari in Winston\, OR \nOregon Coast Newport Aquarium in Newport\, OR \nTillamook Creamery in Tillamook\, OR \nMultnomah Falls in Bridal Veil\, OR \nOregon Trail Interpretive Center in Baker City\, OR
URL:https://evergreenvirtual.org/calendar/multnomah-falls-eventure-2-pm/
END:VEVENT
BEGIN:VEVENT
DTSTART;VALUE=DATE:20260423
DTEND;VALUE=DATE:20260424
DTSTAMP:20260420T164849
CREATED:20260123T201446Z
LAST-MODIFIED:20260123T201446Z
UID:10000428-1776902400-1776988799@evergreenvirtual.org
SUMMARY:EVA Board Meeting @ 6 pm
DESCRIPTION:You are invited to a Zoom webinar. \nWhen: The EVA Board of Directors monthly meetings are the fourth Thursday of each month at 6:00pm. Board work sessions are the second Thursday of each month.* \nTopic: EVA Board Meeting \n  \nPlease click the link below to join the webinar: \nJoin from PC\, Mac\, iPad\, or Android:\nhttps://evergreenvirtual-org.zoom.us/j/87931930355
URL:https://evergreenvirtual.org/calendar/eva-board-meeting-6-pm-3/
END:VEVENT
BEGIN:VEVENT
DTSTART;TZID=America/Los_Angeles:20260425T180000
DTEND;TZID=America/Los_Angeles:20260425T210000
DTSTAMP:20260420T164849
CREATED:20250711T221557Z
LAST-MODIFIED:20251205T190056Z
UID:10000373-1777140000-1777150800@evergreenvirtual.org
SUMMARY:EVA Prom 6-9 PM
DESCRIPTION:Evergreen Virtual Academy offers an in-person prom experience.  Please see our Activities Corner for details as it gets closer to this event. Cost per student or guest is just under $25 to attend.  This EVenture is for students only\, parents will be dropping off\, signing in and picking up students. \nLocation: Walter Cultural Arts Center – 527 East Main St – Hillsboro\, OR 97123 \nTime: 6-9 PM
URL:https://evergreenvirtual.org/calendar/eva-prom/
END:VEVENT
BEGIN:VEVENT
DTSTART;TZID=America/Los_Angeles:20260508T140000
DTEND;TZID=America/Los_Angeles:20260508T153000
DTSTAMP:20260420T164849
CREATED:20250711T222549Z
LAST-MODIFIED:20250711T222549Z
UID:10000374-1778248800-1778254200@evergreenvirtual.org
SUMMARY:Game Time EVenture @ 2 pm
DESCRIPTION:Join us while we make connections\, build our EVA community\, and have fun at local area arcades.  Please see our Activities Corner for details as it gets closer to this event.
URL:https://evergreenvirtual.org/calendar/game-time-eventure-2-pm/
END:VEVENT
BEGIN:VEVENT
DTSTART;VALUE=DATE:20260528
DTEND;VALUE=DATE:20260529
DTSTAMP:20260420T164849
CREATED:20260123T201532Z
LAST-MODIFIED:20260123T201532Z
UID:10000429-1779926400-1780012799@evergreenvirtual.org
SUMMARY:EVA Board Meeting @ 6 pm
DESCRIPTION:You are invited to a Zoom webinar. \nWhen: The EVA Board of Directors monthly meetings are the fourth Thursday of each month at 6:00pm. Board work sessions are the second Thursday of each month.* \nTopic: EVA Board Meeting \n  \nPlease click the link below to join the webinar: \nJoin from PC\, Mac\, iPad\, or Android:\nhttps://evergreenvirtual-org.zoom.us/j/87931930355
URL:https://evergreenvirtual.org/calendar/eva-board-meeting-6-pm-4/
END:VEVENT
BEGIN:VEVENT
DTSTART;TZID=America/Los_Angeles:20260605T140000
DTEND;TZID=America/Los_Angeles:20260605T153000
DTSTAMP:20260420T164849
CREATED:20250711T223153Z
LAST-MODIFIED:20260309T001006Z
UID:10000377-1780668000-1780673400@evergreenvirtual.org
SUMMARY:Oaks Park EVenture @ 2 PM
DESCRIPTION:Join us while we make connections\, build our EVA community\, and have fun at Oaks Park in Portland\, Oregon.  Please see our Activities Corner for details as it gets closer to this event. \n 
URL:https://evergreenvirtual.org/calendar/rogue-valley-family-fun-center-eventure-2-pm/
END:VEVENT
BEGIN:VEVENT
DTSTART;VALUE=DATE:20260613
DTEND;VALUE=DATE:20260614
DTSTAMP:20260420T164849
CREATED:20250711T224956Z
LAST-MODIFIED:20251205T185819Z
UID:10000378-1781308800-1781395199@evergreenvirtual.org
SUMMARY:EVA Graduation
DESCRIPTION:Join us while we celebrate our 2026 EVA graduates!  Please see our Activities Corner for details as it gets closer to this event. \nLocation: \nOregon Expo Center \nColumbia Hall \n2330 17th Street NE \nSalem\, OR 97301
URL:https://evergreenvirtual.org/calendar/eva-graduation-2/
END:VEVENT
END:VCALENDAR