BEGIN:VCALENDAR
VERSION:2.0
PRODID:-//Evergreen Virtual Academy - ECPv6.15.20//NONSGML v1.0//EN
CALSCALE:GREGORIAN
METHOD:PUBLISH
X-WR-CALNAME:Evergreen Virtual Academy
X-ORIGINAL-URL:https://evergreenvirtual.org
X-WR-CALDESC:Events for Evergreen Virtual Academy
REFRESH-INTERVAL;VALUE=DURATION:PT1H
X-Robots-Tag:noindex
X-PUBLISHED-TTL:PT1H
BEGIN:VTIMEZONE
TZID:America/Los_Angeles
BEGIN:DAYLIGHT
TZOFFSETFROM:-0800
TZOFFSETTO:-0700
TZNAME:PDT
DTSTART:20230312T100000
END:DAYLIGHT
BEGIN:STANDARD
TZOFFSETFROM:-0700
TZOFFSETTO:-0800
TZNAME:PST
DTSTART:20231105T090000
END:STANDARD
BEGIN:DAYLIGHT
TZOFFSETFROM:-0800
TZOFFSETTO:-0700
TZNAME:PDT
DTSTART:20240310T100000
END:DAYLIGHT
BEGIN:STANDARD
TZOFFSETFROM:-0700
TZOFFSETTO:-0800
TZNAME:PST
DTSTART:20241103T090000
END:STANDARD
BEGIN:DAYLIGHT
TZOFFSETFROM:-0800
TZOFFSETTO:-0700
TZNAME:PDT
DTSTART:20250309T100000
END:DAYLIGHT
BEGIN:STANDARD
TZOFFSETFROM:-0700
TZOFFSETTO:-0800
TZNAME:PST
DTSTART:20251102T090000
END:STANDARD
END:VTIMEZONE
BEGIN:VEVENT
DTSTART;VALUE=DATE:20241009
DTEND;VALUE=DATE:20241010
DTSTAMP:20260422T153841
CREATED:20240911T193304Z
LAST-MODIFIED:20250319T155816Z
UID:10000095-1728432000-1728518399@evergreenvirtual.org
SUMMARY:New Enrollment Cohort Start Dates
DESCRIPTION:EVA welcomes new student cohorts each week.  In order to support a strong start for each student\, all documents must be submitted by end of day each Friday.  Students will start with their onboarding cohort the following Wednesday.
URL:https://evergreenvirtual.org/calendar/new-enrollment-cohort-start-dates/2024-10-09/
END:VEVENT
BEGIN:VEVENT
DTSTART;TZID=America/Los_Angeles:20241008T190000
DTEND;TZID=America/Los_Angeles:20241008T200000
DTSTAMP:20260422T153841
CREATED:20240905T221951Z
LAST-MODIFIED:20240925T170938Z
UID:10000156-1728414000-1728417600@evergreenvirtual.org
SUMMARY:EVA Board Work Session
DESCRIPTION:You are invited to a Zoom webinar. \nWhen: The EVA Board of Directors monthly meetings are the fourth Tuesday of each month at 7pm. Board work sessions are the second Tuesday of each month.* \nTopic: EVA Board Meeting \n  \nPlease click the link below to join the webinar: \nhttps://evergreenvirtual-org.zoom.us/j/86346138790 One tap mobile : \nUS: +13462487799\,\,87254322950#  or +16699009128\,87254322950# \nOr Telephone: \nDial(for higher quality\, dial a number based on your current location): \nUS: +1 346 248 7799  or +1 669 900 9128  or +1 253 215 8782  or +1 312 626 6799  or +1 646 558 8656  or +1 301 715 8592 \nWebinar ID: 872 5432 2950 \nInternational numbers available: https://us02web.zoom.us/u/kgBBLdhBw \n  \n*Day and Time are subject to change
URL:https://evergreenvirtual.org/calendar/eva-board-work-session/2024-10-08/
END:VEVENT
BEGIN:VEVENT
DTSTART;VALUE=DATE:20241004
DTEND;VALUE=DATE:20241005
DTSTAMP:20260422T153841
CREATED:20240911T192834Z
LAST-MODIFIED:20240911T192834Z
UID:10000068-1728000000-1728086399@evergreenvirtual.org
SUMMARY:Enrollment Approval Deadline
DESCRIPTION:EVA welcomes new student cohorts each week.  In order to support a strong start for each student\, all documents must be submitted by end of day each Friday.  Students will start with their onboarding cohort the following Wednesday.
URL:https://evergreenvirtual.org/calendar/enrollment-approval-deadline/2024-10-04/
END:VEVENT
BEGIN:VEVENT
DTSTART;VALUE=DATE:20241004
DTEND;VALUE=DATE:20241005
DTSTAMP:20260422T153841
CREATED:20240606T201230Z
LAST-MODIFIED:20240927T171927Z
UID:10000020-1728000000-1728086399@evergreenvirtual.org
SUMMARY:EVA Outdoor School
DESCRIPTION:Join us for our annual Outdoor School event.  This will be a day of exploring at Camp Gray for community\, adventure\, & growth. Look for this on our Activities Corner as we get closer to the event.
URL:https://evergreenvirtual.org/calendar/eva-outdoor-school/
CATEGORIES:Outings
END:VEVENT
BEGIN:VEVENT
DTSTART;VALUE=DATE:20241002
DTEND;VALUE=DATE:20241003
DTSTAMP:20260422T153841
CREATED:20240911T193304Z
LAST-MODIFIED:20250319T155816Z
UID:10000094-1727827200-1727913599@evergreenvirtual.org
SUMMARY:New Enrollment Cohort Start Dates
DESCRIPTION:EVA welcomes new student cohorts each week.  In order to support a strong start for each student\, all documents must be submitted by end of day each Friday.  Students will start with their onboarding cohort the following Wednesday.
URL:https://evergreenvirtual.org/calendar/new-enrollment-cohort-start-dates/2024-10-02/
END:VEVENT
BEGIN:VEVENT
DTSTART;VALUE=DATE:20240927
DTEND;VALUE=DATE:20240928
DTSTAMP:20260422T153841
CREATED:20240911T192834Z
LAST-MODIFIED:20240911T192834Z
UID:10000067-1727395200-1727481599@evergreenvirtual.org
SUMMARY:Enrollment Approval Deadline
DESCRIPTION:EVA welcomes new student cohorts each week.  In order to support a strong start for each student\, all documents must be submitted by end of day each Friday.  Students will start with their onboarding cohort the following Wednesday.
URL:https://evergreenvirtual.org/calendar/enrollment-approval-deadline/2024-09-27/
END:VEVENT
BEGIN:VEVENT
DTSTART;TZID=America/Los_Angeles:20240926T190000
DTEND;TZID=America/Los_Angeles:20240926T200000
DTSTAMP:20260422T153841
CREATED:20240905T221818Z
LAST-MODIFIED:20240925T170704Z
UID:10000145-1727377200-1727380800@evergreenvirtual.org
SUMMARY:EVA Board Meeting
DESCRIPTION:You are invited to a Zoom webinar. \nWhen: The EVA Board of Directors monthly meetings are the fourth Tuesday of each month at 7pm. Board work sessions are the second Tuesday of each month.* \nTopic: EVA Board Meeting \n  \nPlease click the link below to join the webinar: \nhttps://evergreenvirtual-org.zoom.us/j/86346138790 One tap mobile : \nUS: +13462487799\,\,87254322950#  or +16699009128\,\,87254322950# \nOr Telephone: \nDial(for higher quality\, dial a number based on your current location): \nUS: +1 346 248 7799  or +1 669 900 9128  or +1 253 215 8782  or +1 312 626 6799  or +1 646 558 8656  or +1 301 715 8592 \nWebinar ID: 872 5432 2950 \nInternational numbers available: https://us02web.zoom.us/u/kgBBLdhBw \n  \n*Day and Time are subject to change
URL:https://evergreenvirtual.org/calendar/eva-board-meeting/2024-09-26/
END:VEVENT
BEGIN:VEVENT
DTSTART;VALUE=DATE:20240925
DTEND;VALUE=DATE:20240926
DTSTAMP:20260422T153841
CREATED:20240911T193304Z
LAST-MODIFIED:20250319T155816Z
UID:10000093-1727222400-1727308799@evergreenvirtual.org
SUMMARY:New Enrollment Cohort Start Dates
DESCRIPTION:EVA welcomes new student cohorts each week.  In order to support a strong start for each student\, all documents must be submitted by end of day each Friday.  Students will start with their onboarding cohort the following Wednesday.
URL:https://evergreenvirtual.org/calendar/new-enrollment-cohort-start-dates/2024-09-25/
END:VEVENT
BEGIN:VEVENT
DTSTART;VALUE=DATE:20240921
DTEND;VALUE=DATE:20240922
DTSTAMP:20260422T153841
CREATED:20240702T174500Z
LAST-MODIFIED:20240702T174500Z
UID:10000038-1726876800-1726963199@evergreenvirtual.org
SUMMARY:Punx in the Park Resource Fair
DESCRIPTION:Come see our amazing staff and check out the EVA booth this weekend for some fun take-a-ways and learn more about our school!
URL:https://evergreenvirtual.org/calendar/punx-in-the-park-resource-fair/
LOCATION:Punx in the Park Resource Fair – Marion Square Skate Park\, 220 Union St NE\, Salem\, OR\, 97301\, United States
END:VEVENT
BEGIN:VEVENT
DTSTART;VALUE=DATE:20240920
DTEND;VALUE=DATE:20240921
DTSTAMP:20260422T153841
CREATED:20240911T192834Z
LAST-MODIFIED:20240911T192834Z
UID:10000066-1726790400-1726876799@evergreenvirtual.org
SUMMARY:Enrollment Approval Deadline
DESCRIPTION:EVA welcomes new student cohorts each week.  In order to support a strong start for each student\, all documents must be submitted by end of day each Friday.  Students will start with their onboarding cohort the following Wednesday.
URL:https://evergreenvirtual.org/calendar/enrollment-approval-deadline/2024-09-20/
END:VEVENT
BEGIN:VEVENT
DTSTART;VALUE=DATE:20240918
DTEND;VALUE=DATE:20240919
DTSTAMP:20260422T153841
CREATED:20240911T193304Z
LAST-MODIFIED:20250319T155816Z
UID:10000092-1726617600-1726703999@evergreenvirtual.org
SUMMARY:New Enrollment Cohort Start Dates
DESCRIPTION:EVA welcomes new student cohorts each week.  In order to support a strong start for each student\, all documents must be submitted by end of day each Friday.  Students will start with their onboarding cohort the following Wednesday.
URL:https://evergreenvirtual.org/calendar/new-enrollment-cohort-start-dates/2024-09-18/
END:VEVENT
BEGIN:VEVENT
DTSTART;VALUE=DATE:20240913
DTEND;VALUE=DATE:20240914
DTSTAMP:20260422T153841
CREATED:20240911T192834Z
LAST-MODIFIED:20240911T192834Z
UID:10000065-1726185600-1726271999@evergreenvirtual.org
SUMMARY:Enrollment Approval Deadline
DESCRIPTION:EVA welcomes new student cohorts each week.  In order to support a strong start for each student\, all documents must be submitted by end of day each Friday.  Students will start with their onboarding cohort the following Wednesday.
URL:https://evergreenvirtual.org/calendar/enrollment-approval-deadline/2024-09-13/
END:VEVENT
BEGIN:VEVENT
DTSTART;VALUE=DATE:20240913
DTEND;VALUE=DATE:20240914
DTSTAMP:20260422T153841
CREATED:20240602T171754Z
LAST-MODIFIED:20240906T152721Z
UID:10000010-1726185600-1726271999@evergreenvirtual.org
SUMMARY:EVA Family Game Night - Portland Thorns Soccer Match
DESCRIPTION:Sign up to attend the Portland Thorns Soccer match with us HERE! Choose between 3 different ticket options: attend only\, sit on players bench for warm up time\, participate in a pre-game scrimmage (the last two are student only). We hope to see you there!
URL:https://evergreenvirtual.org/calendar/eva-family-game-night/
END:VEVENT
BEGIN:VEVENT
DTSTART;VALUE=DATE:20240911
DTEND;VALUE=DATE:20240912
DTSTAMP:20260422T153841
CREATED:20240911T193304Z
LAST-MODIFIED:20250319T155816Z
UID:10000091-1726012800-1726099199@evergreenvirtual.org
SUMMARY:New Enrollment Cohort Start Dates
DESCRIPTION:EVA welcomes new student cohorts each week.  In order to support a strong start for each student\, all documents must be submitted by end of day each Friday.  Students will start with their onboarding cohort the following Wednesday.
URL:https://evergreenvirtual.org/calendar/new-enrollment-cohort-start-dates/2024-09-11/
END:VEVENT
BEGIN:VEVENT
DTSTART;TZID=America/Los_Angeles:20240910T183000
DTEND;TZID=America/Los_Angeles:20240910T193000
DTSTAMP:20260422T153841
CREATED:20240905T221951Z
LAST-MODIFIED:20240925T170938Z
UID:10000061-1725993000-1725996600@evergreenvirtual.org
SUMMARY:EVA Board Work Session
DESCRIPTION:You are invited to a Zoom webinar. \nWhen: The EVA Board of Directors monthly meetings are the fourth Tuesday of each month at 7pm. Board work sessions are the second Tuesday of each month.* \nTopic: EVA Board Meeting \n  \nPlease click the link below to join the webinar: \nhttps://evergreenvirtual-org.zoom.us/j/86346138790 One tap mobile : \nUS: +13462487799\,\,87254322950#  or +16699009128\,87254322950# \nOr Telephone: \nDial(for higher quality\, dial a number based on your current location): \nUS: +1 346 248 7799  or +1 669 900 9128  or +1 253 215 8782  or +1 312 626 6799  or +1 646 558 8656  or +1 301 715 8592 \nWebinar ID: 872 5432 2950 \nInternational numbers available: https://us02web.zoom.us/u/kgBBLdhBw \n  \n*Day and Time are subject to change
URL:https://evergreenvirtual.org/calendar/eva-board-work-session/2024-09-10/
END:VEVENT
BEGIN:VEVENT
DTSTART;TZID=America/Los_Angeles:20240908T100000
DTEND;TZID=America/Los_Angeles:20240908T170000
DTSTAMP:20260422T153841
CREATED:20240626T173833Z
LAST-MODIFIED:20240626T173833Z
UID:10000037-1725789600-1725814800@evergreenvirtual.org
SUMMARY:Rose City Comic Con
DESCRIPTION:Come see our amazing staff and check out the EVA booth this weekend for some fun take-a-ways and learn more about our school!
URL:https://evergreenvirtual.org/calendar/rose-city-comic-con/2024-09-08/
LOCATION:Oregon Convention Center\, 777 NE Martin Luther King Jr Blvd\, Portland\, OR\, 97232\, United States
END:VEVENT
BEGIN:VEVENT
DTSTART;TZID=America/Los_Angeles:20240907T100000
DTEND;TZID=America/Los_Angeles:20240907T190000
DTSTAMP:20260422T153841
CREATED:20240626T173833Z
LAST-MODIFIED:20240626T173833Z
UID:10000036-1725703200-1725735600@evergreenvirtual.org
SUMMARY:Rose City Comic Con
DESCRIPTION:Come see our amazing staff and check out the EVA booth this weekend for some fun take-a-ways and learn more about our school!
URL:https://evergreenvirtual.org/calendar/rose-city-comic-con/2024-09-07/
LOCATION:Oregon Convention Center\, 777 NE Martin Luther King Jr Blvd\, Portland\, OR\, 97232\, United States
END:VEVENT
BEGIN:VEVENT
DTSTART;TZID=America/Los_Angeles:20240906T130000
DTEND;TZID=America/Los_Angeles:20240906T200000
DTSTAMP:20260422T153841
CREATED:20240626T173833Z
LAST-MODIFIED:20240626T173833Z
UID:10000035-1725627600-1725652800@evergreenvirtual.org
SUMMARY:Rose City Comic Con
DESCRIPTION:Come see our amazing staff and check out the EVA booth this weekend for some fun take-a-ways and learn more about our school!
URL:https://evergreenvirtual.org/calendar/rose-city-comic-con/2024-09-06/
LOCATION:Oregon Convention Center\, 777 NE Martin Luther King Jr Blvd\, Portland\, OR\, 97232\, United States
END:VEVENT
BEGIN:VEVENT
DTSTART;VALUE=DATE:20240906
DTEND;VALUE=DATE:20240907
DTSTAMP:20260422T153841
CREATED:20240911T192834Z
LAST-MODIFIED:20240911T192834Z
UID:10000064-1725580800-1725667199@evergreenvirtual.org
SUMMARY:Enrollment Approval Deadline
DESCRIPTION:EVA welcomes new student cohorts each week.  In order to support a strong start for each student\, all documents must be submitted by end of day each Friday.  Students will start with their onboarding cohort the following Wednesday.
URL:https://evergreenvirtual.org/calendar/enrollment-approval-deadline/2024-09-06/
END:VEVENT
BEGIN:VEVENT
DTSTART;VALUE=DATE:20240903
DTEND;VALUE=DATE:20240904
DTSTAMP:20260422T153841
CREATED:20240827T225426Z
LAST-MODIFIED:20240827T225509Z
UID:10000052-1725321600-1725407999@evergreenvirtual.org
SUMMARY:First Day of School
DESCRIPTION:Welcome to the 24/25 school year!  Check out more information here.
URL:https://evergreenvirtual.org/calendar/first-day-of-school/
END:VEVENT
BEGIN:VEVENT
DTSTART;TZID=America/Los_Angeles:20240830T150000
DTEND;TZID=America/Los_Angeles:20240830T160000
DTSTAMP:20260422T153841
CREATED:20240807T210242Z
LAST-MODIFIED:20240807T210242Z
UID:10000049-1725030000-1725033600@evergreenvirtual.org
SUMMARY:Early Orientation
DESCRIPTION:We want to make sure you have a strong start to the school year and have the knowledge and tools needed to feel confident on your first day of school. We look forward to seeing you at one of our sessions where we will cover: \n\nHow to use Zoom classroom tools\nStudent and learning coach expectations\nHow to use Canvas (our online learning platform)\nWhat to expect during your first week of school (our Week of Welcome)\n\nThe link and orientation information are the same for each session.  Join HERE to attend one of our listed sessions.
URL:https://evergreenvirtual.org/calendar/early-orientation/2024-08-30/2/
END:VEVENT
BEGIN:VEVENT
DTSTART;TZID=America/Los_Angeles:20240830T090000
DTEND;TZID=America/Los_Angeles:20240830T100000
DTSTAMP:20260422T153841
CREATED:20240807T210242Z
LAST-MODIFIED:20240807T210242Z
UID:10000048-1725008400-1725012000@evergreenvirtual.org
SUMMARY:Early Orientation
DESCRIPTION:We want to make sure you have a strong start to the school year and have the knowledge and tools needed to feel confident on your first day of school. We look forward to seeing you at one of our sessions where we will cover: \n\nHow to use Zoom classroom tools\nStudent and learning coach expectations\nHow to use Canvas (our online learning platform)\nWhat to expect during your first week of school (our Week of Welcome)\n\nThe link and orientation information are the same for each session.  Join HERE to attend one of our listed sessions.
URL:https://evergreenvirtual.org/calendar/early-orientation/2024-08-30/1/
END:VEVENT
BEGIN:VEVENT
DTSTART;VALUE=DATE:20240830
DTEND;VALUE=DATE:20240831
DTSTAMP:20260422T153841
CREATED:20240911T192834Z
LAST-MODIFIED:20240911T192834Z
UID:10000063-1724976000-1725062399@evergreenvirtual.org
SUMMARY:Enrollment Approval Deadline
DESCRIPTION:EVA welcomes new student cohorts each week.  In order to support a strong start for each student\, all documents must be submitted by end of day each Friday.  Students will start with their onboarding cohort the following Wednesday.
URL:https://evergreenvirtual.org/calendar/enrollment-approval-deadline/2024-08-30/
END:VEVENT
BEGIN:VEVENT
DTSTART;TZID=America/Los_Angeles:20240829T140000
DTEND;TZID=America/Los_Angeles:20240829T150000
DTSTAMP:20260422T153841
CREATED:20240807T210242Z
LAST-MODIFIED:20240807T210242Z
UID:10000047-1724940000-1724943600@evergreenvirtual.org
SUMMARY:Early Orientation
DESCRIPTION:We want to make sure you have a strong start to the school year and have the knowledge and tools needed to feel confident on your first day of school. We look forward to seeing you at one of our sessions where we will cover: \n\nHow to use Zoom classroom tools\nStudent and learning coach expectations\nHow to use Canvas (our online learning platform)\nWhat to expect during your first week of school (our Week of Welcome)\n\nThe link and orientation information are the same for each session.  Join HERE to attend one of our listed sessions.
URL:https://evergreenvirtual.org/calendar/early-orientation/2024-08-29/
END:VEVENT
BEGIN:VEVENT
DTSTART;TZID=America/Los_Angeles:20240828T100000
DTEND;TZID=America/Los_Angeles:20240828T120000
DTSTAMP:20260422T153841
CREATED:20240807T210242Z
LAST-MODIFIED:20240807T210242Z
UID:10000046-1724839200-1724846400@evergreenvirtual.org
SUMMARY:Early Orientation
DESCRIPTION:We want to make sure you have a strong start to the school year and have the knowledge and tools needed to feel confident on your first day of school. We look forward to seeing you at one of our sessions where we will cover: \n\nHow to use Zoom classroom tools\nStudent and learning coach expectations\nHow to use Canvas (our online learning platform)\nWhat to expect during your first week of school (our Week of Welcome)\n\nThe link and orientation information are the same for each session.  Join HERE to attend one of our listed sessions.
URL:https://evergreenvirtual.org/calendar/early-orientation/2024-08-28/
END:VEVENT
BEGIN:VEVENT
DTSTART;TZID=America/Los_Angeles:20240827T183000
DTEND;TZID=America/Los_Angeles:20240827T193000
DTSTAMP:20260422T153841
CREATED:20240905T221818Z
LAST-MODIFIED:20240925T170704Z
UID:10000060-1724783400-1724787000@evergreenvirtual.org
SUMMARY:EVA Board Meeting
DESCRIPTION:You are invited to a Zoom webinar. \nWhen: The EVA Board of Directors monthly meetings are the fourth Tuesday of each month at 7pm. Board work sessions are the second Tuesday of each month.* \nTopic: EVA Board Meeting \n  \nPlease click the link below to join the webinar: \nhttps://evergreenvirtual-org.zoom.us/j/86346138790 One tap mobile : \nUS: +13462487799\,\,87254322950#  or +16699009128\,\,87254322950# \nOr Telephone: \nDial(for higher quality\, dial a number based on your current location): \nUS: +1 346 248 7799  or +1 669 900 9128  or +1 253 215 8782  or +1 312 626 6799  or +1 646 558 8656  or +1 301 715 8592 \nWebinar ID: 872 5432 2950 \nInternational numbers available: https://us02web.zoom.us/u/kgBBLdhBw \n  \n*Day and Time are subject to change
URL:https://evergreenvirtual.org/calendar/eva-board-meeting/2024-08-27/
END:VEVENT
BEGIN:VEVENT
DTSTART;TZID=America/Los_Angeles:20240827T130000
DTEND;TZID=America/Los_Angeles:20240827T140000
DTSTAMP:20260422T153841
CREATED:20240807T210242Z
LAST-MODIFIED:20240807T210242Z
UID:10000045-1724763600-1724767200@evergreenvirtual.org
SUMMARY:Early Orientation
DESCRIPTION:We want to make sure you have a strong start to the school year and have the knowledge and tools needed to feel confident on your first day of school. We look forward to seeing you at one of our sessions where we will cover: \n\nHow to use Zoom classroom tools\nStudent and learning coach expectations\nHow to use Canvas (our online learning platform)\nWhat to expect during your first week of school (our Week of Welcome)\n\nThe link and orientation information are the same for each session.  Join HERE to attend one of our listed sessions.
URL:https://evergreenvirtual.org/calendar/early-orientation/2024-08-27/
END:VEVENT
BEGIN:VEVENT
DTSTART;TZID=America/Los_Angeles:20240826T170000
DTEND;TZID=America/Los_Angeles:20240826T180000
DTSTAMP:20260422T153841
CREATED:20240807T210242Z
LAST-MODIFIED:20240807T210242Z
UID:10000044-1724691600-1724695200@evergreenvirtual.org
SUMMARY:Early Orientation
DESCRIPTION:We want to make sure you have a strong start to the school year and have the knowledge and tools needed to feel confident on your first day of school. We look forward to seeing you at one of our sessions where we will cover: \n\nHow to use Zoom classroom tools\nStudent and learning coach expectations\nHow to use Canvas (our online learning platform)\nWhat to expect during your first week of school (our Week of Welcome)\n\nThe link and orientation information are the same for each session.  Join HERE to attend one of our listed sessions.
URL:https://evergreenvirtual.org/calendar/early-orientation/2024-08-26/
END:VEVENT
BEGIN:VEVENT
DTSTART;TZID=America/Los_Angeles:20240825T100000
DTEND;TZID=America/Los_Angeles:20240825T160000
DTSTAMP:20260422T153841
CREATED:20240626T173609Z
LAST-MODIFIED:20240626T173609Z
UID:10000034-1724580000-1724601600@evergreenvirtual.org
SUMMARY:Blackberry Arts Festival
DESCRIPTION:Come see our amazing staff and check out the EVA booth this weekend for some fun take-a-ways and learn more about our school!
URL:https://evergreenvirtual.org/calendar/blackberry-arts-festival/2024-08-25/
LOCATION:Blackberry Arts Festival\, Downtown\, Coos Bay\, OR\, 97420\, United States
END:VEVENT
BEGIN:VEVENT
DTSTART;TZID=America/Los_Angeles:20240824T100000
DTEND;TZID=America/Los_Angeles:20240824T180000
DTSTAMP:20260422T153841
CREATED:20240626T173331Z
LAST-MODIFIED:20240626T173331Z
UID:10000032-1724493600-1724522400@evergreenvirtual.org
SUMMARY:Northwest Air & Art Festival
DESCRIPTION:Come see our amazing staff and check out the EVA booth this weekend for some fun take-a-ways and learn more about our school!
URL:https://evergreenvirtual.org/calendar/northwest-air-art-festival/2024-08-24/
LOCATION:Timber-Linn Memorial Park\, 900 Price Rd SE\, Albany\, OR\, 97322\, United States
END:VEVENT
END:VCALENDAR