BEGIN:VCALENDAR
VERSION:2.0
PRODID:-//Evergreen Virtual Academy - ECPv6.15.20//NONSGML v1.0//EN
CALSCALE:GREGORIAN
METHOD:PUBLISH
X-WR-CALNAME:Evergreen Virtual Academy
X-ORIGINAL-URL:https://evergreenvirtual.org
X-WR-CALDESC:Events for Evergreen Virtual Academy
REFRESH-INTERVAL;VALUE=DURATION:PT1H
X-Robots-Tag:noindex
X-PUBLISHED-TTL:PT1H
BEGIN:VTIMEZONE
TZID:America/Los_Angeles
BEGIN:DAYLIGHT
TZOFFSETFROM:-0800
TZOFFSETTO:-0700
TZNAME:PDT
DTSTART:20240310T100000
END:DAYLIGHT
BEGIN:STANDARD
TZOFFSETFROM:-0700
TZOFFSETTO:-0800
TZNAME:PST
DTSTART:20241103T090000
END:STANDARD
BEGIN:DAYLIGHT
TZOFFSETFROM:-0800
TZOFFSETTO:-0700
TZNAME:PDT
DTSTART:20250309T100000
END:DAYLIGHT
BEGIN:STANDARD
TZOFFSETFROM:-0700
TZOFFSETTO:-0800
TZNAME:PST
DTSTART:20251102T090000
END:STANDARD
BEGIN:DAYLIGHT
TZOFFSETFROM:-0800
TZOFFSETTO:-0700
TZNAME:PDT
DTSTART:20260308T100000
END:DAYLIGHT
BEGIN:STANDARD
TZOFFSETFROM:-0700
TZOFFSETTO:-0800
TZNAME:PST
DTSTART:20261101T090000
END:STANDARD
END:VTIMEZONE
BEGIN:VEVENT
DTSTART;VALUE=DATE:20250804
DTEND;VALUE=DATE:20250805
DTSTAMP:20260420T183409
CREATED:20250711T171805Z
LAST-MODIFIED:20250711T172131Z
UID:10000188-1754265600-1754351999@evergreenvirtual.org
SUMMARY:LIVE Middle School Summer Enrichment @ 10 am
DESCRIPTION:From June 23-August 8 EVA offers summer enrichment opportunities for students to stay engaged and connected.  These are not required to attend\, but an optional offering.  Join us if you can!  Reach out to your assigned engagement coach for the link. \nMonday is Middle School focused @10 am \nWednesday is High School focused @ 10 am \nFriday is Elementary focused @ 10 am
URL:https://evergreenvirtual.org/calendar/live-middle-school-summer-enrichment-2/2025-08-04/
END:VEVENT
BEGIN:VEVENT
DTSTART;VALUE=DATE:20250801
DTEND;VALUE=DATE:20250802
DTSTAMP:20260420T183409
CREATED:20250711T172050Z
LAST-MODIFIED:20250711T172050Z
UID:10000305-1754006400-1754092799@evergreenvirtual.org
SUMMARY:LIVE Elementary Summer Enrichment @ 10 am
DESCRIPTION:From June 23-August 8 EVA offers summer enrichment opportunities for students to stay engaged and connected.  These are not required to attend\, but an optional offering.  Join us if you can!  Reach out to your assigned engagement coach for the link. \nMonday is Middle School focused @10 am \nWednesday is High School focused @ 10 am \nFriday is Elementary focused @ 10 am
URL:https://evergreenvirtual.org/calendar/live-elementary-summer-enrichment-10-am/2025-08-01/
END:VEVENT
BEGIN:VEVENT
DTSTART;VALUE=DATE:20250728
DTEND;VALUE=DATE:20250729
DTSTAMP:20260420T183409
CREATED:20250711T171805Z
LAST-MODIFIED:20250711T172131Z
UID:10000187-1753660800-1753747199@evergreenvirtual.org
SUMMARY:LIVE Middle School Summer Enrichment @ 10 am
DESCRIPTION:From June 23-August 8 EVA offers summer enrichment opportunities for students to stay engaged and connected.  These are not required to attend\, but an optional offering.  Join us if you can!  Reach out to your assigned engagement coach for the link. \nMonday is Middle School focused @10 am \nWednesday is High School focused @ 10 am \nFriday is Elementary focused @ 10 am
URL:https://evergreenvirtual.org/calendar/live-middle-school-summer-enrichment-2/2025-07-28/
END:VEVENT
BEGIN:VEVENT
DTSTART;TZID=America/Los_Angeles:20250725T183000
DTEND;TZID=America/Los_Angeles:20250725T223000
DTSTAMP:20260420T183409
CREATED:20250711T225230Z
LAST-MODIFIED:20250711T225230Z
UID:10000379-1753468200-1753482600@evergreenvirtual.org
SUMMARY:Hillsboro Hops Marketing
DESCRIPTION:Come see us at the Hillsboro Hops stadium.  We will be promoting EVA and be available for your enrollment questions. \nLocation: \n4450 NE Century Blvd \nHillsboro\, OR 97124
URL:https://evergreenvirtual.org/calendar/hillsboro-hops-marketing/
END:VEVENT
BEGIN:VEVENT
DTSTART;VALUE=DATE:20250725
DTEND;VALUE=DATE:20250726
DTSTAMP:20260420T183409
CREATED:20250711T172050Z
LAST-MODIFIED:20250711T172050Z
UID:10000304-1753401600-1753487999@evergreenvirtual.org
SUMMARY:LIVE Elementary Summer Enrichment @ 10 am
DESCRIPTION:From June 23-August 8 EVA offers summer enrichment opportunities for students to stay engaged and connected.  These are not required to attend\, but an optional offering.  Join us if you can!  Reach out to your assigned engagement coach for the link. \nMonday is Middle School focused @10 am \nWednesday is High School focused @ 10 am \nFriday is Elementary focused @ 10 am
URL:https://evergreenvirtual.org/calendar/live-elementary-summer-enrichment-10-am/2025-07-25/
END:VEVENT
BEGIN:VEVENT
DTSTART;TZID=America/Los_Angeles:20250724T183000
DTEND;TZID=America/Los_Angeles:20250724T193000
DTSTAMP:20260420T183409
CREATED:20250716T211023Z
LAST-MODIFIED:20250716T211024Z
UID:10000180-1753381800-1753385400@evergreenvirtual.org
SUMMARY:EVA Board Meeting
DESCRIPTION:You are invited to a Zoom webinar. \nWhen: The EVA Board of Directors monthly meetings are the fourth Thursday of each month at 6:30pm. Board work sessions are the second Thursday of each month.* \nTopic: EVA Board Meeting \n  \nPlease click the link below to join the webinar: \nJoin from PC\, Mac\, iPad\, or Android:\nhttps://evergreenvirtual-org.zoom.us/j/87931930355\n\nPhone one-tap:\n+12532158782\,\,87931930355# US (Tacoma)\n+13462487799\,\,87931930355# US (Houston)\n\nWebinar ID: 879 3193 0355\nInternational numbers available: https://evergreenvirtual-org.zoom.us/u/kc1pZfrudi\n  \n*Day and Time are subject to change
URL:https://evergreenvirtual.org/calendar/eva-board-meeting-2-2/
END:VEVENT
BEGIN:VEVENT
DTSTART;VALUE=DATE:20250721
DTEND;VALUE=DATE:20250722
DTSTAMP:20260420T183409
CREATED:20250711T171805Z
LAST-MODIFIED:20250711T172131Z
UID:10000186-1753056000-1753142399@evergreenvirtual.org
SUMMARY:LIVE Middle School Summer Enrichment @ 10 am
DESCRIPTION:From June 23-August 8 EVA offers summer enrichment opportunities for students to stay engaged and connected.  These are not required to attend\, but an optional offering.  Join us if you can!  Reach out to your assigned engagement coach for the link. \nMonday is Middle School focused @10 am \nWednesday is High School focused @ 10 am \nFriday is Elementary focused @ 10 am
URL:https://evergreenvirtual.org/calendar/live-middle-school-summer-enrichment-2/2025-07-21/
END:VEVENT
BEGIN:VEVENT
DTSTART;VALUE=DATE:20250718
DTEND;VALUE=DATE:20250719
DTSTAMP:20260420T183409
CREATED:20250711T172050Z
LAST-MODIFIED:20250711T172050Z
UID:10000303-1752796800-1752883199@evergreenvirtual.org
SUMMARY:LIVE Elementary Summer Enrichment @ 10 am
DESCRIPTION:From June 23-August 8 EVA offers summer enrichment opportunities for students to stay engaged and connected.  These are not required to attend\, but an optional offering.  Join us if you can!  Reach out to your assigned engagement coach for the link. \nMonday is Middle School focused @10 am \nWednesday is High School focused @ 10 am \nFriday is Elementary focused @ 10 am
URL:https://evergreenvirtual.org/calendar/live-elementary-summer-enrichment-10-am/2025-07-18/
END:VEVENT
BEGIN:VEVENT
DTSTART;VALUE=DATE:20250714
DTEND;VALUE=DATE:20250715
DTSTAMP:20260420T183409
CREATED:20250711T171805Z
LAST-MODIFIED:20250711T172131Z
UID:10000185-1752451200-1752537599@evergreenvirtual.org
SUMMARY:LIVE Middle School Summer Enrichment @ 10 am
DESCRIPTION:From June 23-August 8 EVA offers summer enrichment opportunities for students to stay engaged and connected.  These are not required to attend\, but an optional offering.  Join us if you can!  Reach out to your assigned engagement coach for the link. \nMonday is Middle School focused @10 am \nWednesday is High School focused @ 10 am \nFriday is Elementary focused @ 10 am
URL:https://evergreenvirtual.org/calendar/live-middle-school-summer-enrichment-2/2025-07-14/
END:VEVENT
BEGIN:VEVENT
DTSTART;VALUE=DATE:20250711
DTEND;VALUE=DATE:20250712
DTSTAMP:20260420T183409
CREATED:20250711T172050Z
LAST-MODIFIED:20250711T172050Z
UID:10000302-1752192000-1752278399@evergreenvirtual.org
SUMMARY:LIVE Elementary Summer Enrichment @ 10 am
DESCRIPTION:From June 23-August 8 EVA offers summer enrichment opportunities for students to stay engaged and connected.  These are not required to attend\, but an optional offering.  Join us if you can!  Reach out to your assigned engagement coach for the link. \nMonday is Middle School focused @10 am \nWednesday is High School focused @ 10 am \nFriday is Elementary focused @ 10 am
URL:https://evergreenvirtual.org/calendar/live-elementary-summer-enrichment-10-am/2025-07-11/
END:VEVENT
BEGIN:VEVENT
DTSTART;VALUE=DATE:20250707
DTEND;VALUE=DATE:20250708
DTSTAMP:20260420T183409
CREATED:20250711T171805Z
LAST-MODIFIED:20250711T172131Z
UID:10000184-1751846400-1751932799@evergreenvirtual.org
SUMMARY:LIVE Middle School Summer Enrichment @ 10 am
DESCRIPTION:From June 23-August 8 EVA offers summer enrichment opportunities for students to stay engaged and connected.  These are not required to attend\, but an optional offering.  Join us if you can!  Reach out to your assigned engagement coach for the link. \nMonday is Middle School focused @10 am \nWednesday is High School focused @ 10 am \nFriday is Elementary focused @ 10 am
URL:https://evergreenvirtual.org/calendar/live-middle-school-summer-enrichment-2/2025-07-07/
END:VEVENT
BEGIN:VEVENT
DTSTART;VALUE=DATE:20250704
DTEND;VALUE=DATE:20250705
DTSTAMP:20260420T183409
CREATED:20250711T172050Z
LAST-MODIFIED:20250711T172050Z
UID:10000301-1751587200-1751673599@evergreenvirtual.org
SUMMARY:LIVE Elementary Summer Enrichment @ 10 am
DESCRIPTION:From June 23-August 8 EVA offers summer enrichment opportunities for students to stay engaged and connected.  These are not required to attend\, but an optional offering.  Join us if you can!  Reach out to your assigned engagement coach for the link. \nMonday is Middle School focused @10 am \nWednesday is High School focused @ 10 am \nFriday is Elementary focused @ 10 am
URL:https://evergreenvirtual.org/calendar/live-elementary-summer-enrichment-10-am/2025-07-04/
END:VEVENT
BEGIN:VEVENT
DTSTART;VALUE=DATE:20250630
DTEND;VALUE=DATE:20250701
DTSTAMP:20260420T183409
CREATED:20250711T171805Z
LAST-MODIFIED:20250711T172131Z
UID:10000183-1751241600-1751327999@evergreenvirtual.org
SUMMARY:LIVE Middle School Summer Enrichment @ 10 am
DESCRIPTION:From June 23-August 8 EVA offers summer enrichment opportunities for students to stay engaged and connected.  These are not required to attend\, but an optional offering.  Join us if you can!  Reach out to your assigned engagement coach for the link. \nMonday is Middle School focused @10 am \nWednesday is High School focused @ 10 am \nFriday is Elementary focused @ 10 am
URL:https://evergreenvirtual.org/calendar/live-middle-school-summer-enrichment-2/2025-06-30/
END:VEVENT
BEGIN:VEVENT
DTSTART;VALUE=DATE:20250627
DTEND;VALUE=DATE:20250628
DTSTAMP:20260420T183409
CREATED:20250711T172050Z
LAST-MODIFIED:20250711T172050Z
UID:10000300-1750982400-1751068799@evergreenvirtual.org
SUMMARY:LIVE Elementary Summer Enrichment @ 10 am
DESCRIPTION:From June 23-August 8 EVA offers summer enrichment opportunities for students to stay engaged and connected.  These are not required to attend\, but an optional offering.  Join us if you can!  Reach out to your assigned engagement coach for the link. \nMonday is Middle School focused @10 am \nWednesday is High School focused @ 10 am \nFriday is Elementary focused @ 10 am
URL:https://evergreenvirtual.org/calendar/live-elementary-summer-enrichment-10-am/2025-06-27/
END:VEVENT
BEGIN:VEVENT
DTSTART;TZID=America/Los_Angeles:20250626T183000
DTEND;TZID=America/Los_Angeles:20250626T193000
DTSTAMP:20260420T183409
CREATED:20241230T163600Z
LAST-MODIFIED:20241230T163743Z
UID:10000179-1750962600-1750966200@evergreenvirtual.org
SUMMARY:EVA Board Meeting
DESCRIPTION:You are invited to a Zoom webinar. \nWhen: The EVA Board of Directors monthly meetings are the fourth Thursday of each month at 6:30pm. Board work sessions are the second Thursday of each month.* \nTopic: EVA Board Meeting \n  \nPlease click the link below to join the webinar: \nhttps://evergreenvirtual-org.zoom.us/j/86346138790 One tap mobile : \nUS: +13462487799\,\,87254322950#  or +16699009128\,\,87254322950# \nOr Telephone: \nDial(for higher quality\, dial a number based on your current location): \nUS: +1 346 248 7799  or +1 669 900 9128  or +1 253 215 8782  or +1 312 626 6799  or +1 646 558 8656  or +1 301 715 8592 \nWebinar ID: 872 5432 2950 \nInternational numbers available: https://us02web.zoom.us/u/kgBBLdhBw \n  \n*Day and Time are subject to change
URL:https://evergreenvirtual.org/calendar/eva-board-meeting-2/2025-06-26/
END:VEVENT
BEGIN:VEVENT
DTSTART;VALUE=DATE:20250623
DTEND;VALUE=DATE:20250624
DTSTAMP:20260420T183409
CREATED:20250711T171805Z
LAST-MODIFIED:20250711T172131Z
UID:10000182-1750636800-1750723199@evergreenvirtual.org
SUMMARY:LIVE Middle School Summer Enrichment @ 10 am
DESCRIPTION:From June 23-August 8 EVA offers summer enrichment opportunities for students to stay engaged and connected.  These are not required to attend\, but an optional offering.  Join us if you can!  Reach out to your assigned engagement coach for the link. \nMonday is Middle School focused @10 am \nWednesday is High School focused @ 10 am \nFriday is Elementary focused @ 10 am
URL:https://evergreenvirtual.org/calendar/live-middle-school-summer-enrichment-2/2025-06-23/
END:VEVENT
BEGIN:VEVENT
DTSTART;VALUE=DATE:20250614
DTEND;VALUE=DATE:20250615
DTSTAMP:20260420T183409
CREATED:20240926T173447Z
LAST-MODIFIED:20250612T223659Z
UID:10000019-1749859200-1749945599@evergreenvirtual.org
SUMMARY:EVA Graduation
DESCRIPTION:We look forward to celebrating our Class of 2025 seniors!  Visit our Graduation site HERE for details and the link to the livestream which begins at 2:00pm. This will be updated regularly\, so continue to check in for updates.
URL:https://evergreenvirtual.org/calendar/eva-graduation/
CATEGORIES:Outings
END:VEVENT
BEGIN:VEVENT
DTSTART;TZID=America/Los_Angeles:20250612T183000
DTEND;TZID=America/Los_Angeles:20250612T193000
DTSTAMP:20260420T183409
CREATED:20241230T163019Z
LAST-MODIFIED:20241230T163257Z
UID:10000172-1749753000-1749756600@evergreenvirtual.org
SUMMARY:EVA Board Work Session
DESCRIPTION:You are invited to a Zoom webinar. \nWhen: The EVA Board of Directors monthly meetings are the fourth Thursday of each month at 6:30pm. Board work sessions are the second Thursday of each month.* \nTopic: EVA Board Meeting \n  \nPlease click the link below to join the webinar: \nhttps://evergreenvirtual-org.zoom.us/j/86346138790 One tap mobile : \nUS: +13462487799\,\,87254322950#  or +16699009128\,87254322950# \nOr Telephone: \nDial(for higher quality\, dial a number based on your current location): \nUS: +1 346 248 7799  or +1 669 900 9128  or +1 253 215 8782  or +1 312 626 6799  or +1 646 558 8656  or +1 301 715 8592 \nWebinar ID: 872 5432 2950 \nInternational numbers available: https://us02web.zoom.us/u/kgBBLdhBw \n  \n*Day and Time are subject to change
URL:https://evergreenvirtual.org/calendar/eva-board-work-session-2/2025-06-12/
END:VEVENT
BEGIN:VEVENT
DTSTART;TZID=America/Los_Angeles:20250606T140000
DTEND;TZID=America/Los_Angeles:20250606T160000
DTSTAMP:20260420T183409
CREATED:20240602T173419Z
LAST-MODIFIED:20240927T171919Z
UID:10000018-1749218400-1749225600@evergreenvirtual.org
SUMMARY:EVA End of Year EVenture
DESCRIPTION:More details will be posted to our activities corner as we get closer to this event.
URL:https://evergreenvirtual.org/calendar/eva-end-of-year-eventure/
CATEGORIES:Outings
END:VEVENT
BEGIN:VEVENT
DTSTART;TZID=America/Los_Angeles:20250529T183000
DTEND;TZID=America/Los_Angeles:20250529T193000
DTSTAMP:20260420T183409
CREATED:20241230T163600Z
LAST-MODIFIED:20241230T163743Z
UID:10000178-1748543400-1748547000@evergreenvirtual.org
SUMMARY:EVA Board Meeting
DESCRIPTION:You are invited to a Zoom webinar. \nWhen: The EVA Board of Directors monthly meetings are the fourth Thursday of each month at 6:30pm. Board work sessions are the second Thursday of each month.* \nTopic: EVA Board Meeting \n  \nPlease click the link below to join the webinar: \nhttps://evergreenvirtual-org.zoom.us/j/86346138790 One tap mobile : \nUS: +13462487799\,\,87254322950#  or +16699009128\,\,87254322950# \nOr Telephone: \nDial(for higher quality\, dial a number based on your current location): \nUS: +1 346 248 7799  or +1 669 900 9128  or +1 253 215 8782  or +1 312 626 6799  or +1 646 558 8656  or +1 301 715 8592 \nWebinar ID: 872 5432 2950 \nInternational numbers available: https://us02web.zoom.us/u/kgBBLdhBw \n  \n*Day and Time are subject to change
URL:https://evergreenvirtual.org/calendar/eva-board-meeting-2/2025-05-29/
END:VEVENT
BEGIN:VEVENT
DTSTART;TZID=America/Los_Angeles:20250515T183000
DTEND;TZID=America/Los_Angeles:20250515T193000
DTSTAMP:20260420T183409
CREATED:20241230T163019Z
LAST-MODIFIED:20241230T163257Z
UID:10000171-1747333800-1747337400@evergreenvirtual.org
SUMMARY:EVA Board Work Session
DESCRIPTION:You are invited to a Zoom webinar. \nWhen: The EVA Board of Directors monthly meetings are the fourth Thursday of each month at 6:30pm. Board work sessions are the second Thursday of each month.* \nTopic: EVA Board Meeting \n  \nPlease click the link below to join the webinar: \nhttps://evergreenvirtual-org.zoom.us/j/86346138790 One tap mobile : \nUS: +13462487799\,\,87254322950#  or +16699009128\,87254322950# \nOr Telephone: \nDial(for higher quality\, dial a number based on your current location): \nUS: +1 346 248 7799  or +1 669 900 9128  or +1 253 215 8782  or +1 312 626 6799  or +1 646 558 8656  or +1 301 715 8592 \nWebinar ID: 872 5432 2950 \nInternational numbers available: https://us02web.zoom.us/u/kgBBLdhBw \n  \n*Day and Time are subject to change
URL:https://evergreenvirtual.org/calendar/eva-board-work-session-2/2025-05-15/
END:VEVENT
BEGIN:VEVENT
DTSTART;TZID=America/Los_Angeles:20250502T140000
DTEND;TZID=America/Los_Angeles:20250502T160000
DTSTAMP:20260420T183409
CREATED:20240602T173254Z
LAST-MODIFIED:20240927T171920Z
UID:10000017-1746194400-1746201600@evergreenvirtual.org
SUMMARY:EVA Bowl to Enroll EVenture
DESCRIPTION:More details will be posted to our activities corner as we get closer to this event.
URL:https://evergreenvirtual.org/calendar/eva-bowl-to-enroll-eventure/
CATEGORIES:Outings
END:VEVENT
BEGIN:VEVENT
DTSTART;TZID=America/Los_Angeles:20250424T183000
DTEND;TZID=America/Los_Angeles:20250424T193000
DTSTAMP:20260420T183409
CREATED:20241230T163600Z
LAST-MODIFIED:20241230T163743Z
UID:10000177-1745519400-1745523000@evergreenvirtual.org
SUMMARY:EVA Board Meeting
DESCRIPTION:You are invited to a Zoom webinar. \nWhen: The EVA Board of Directors monthly meetings are the fourth Thursday of each month at 6:30pm. Board work sessions are the second Thursday of each month.* \nTopic: EVA Board Meeting \n  \nPlease click the link below to join the webinar: \nhttps://evergreenvirtual-org.zoom.us/j/86346138790 One tap mobile : \nUS: +13462487799\,\,87254322950#  or +16699009128\,\,87254322950# \nOr Telephone: \nDial(for higher quality\, dial a number based on your current location): \nUS: +1 346 248 7799  or +1 669 900 9128  or +1 253 215 8782  or +1 312 626 6799  or +1 646 558 8656  or +1 301 715 8592 \nWebinar ID: 872 5432 2950 \nInternational numbers available: https://us02web.zoom.us/u/kgBBLdhBw \n  \n*Day and Time are subject to change
URL:https://evergreenvirtual.org/calendar/eva-board-meeting-2/2025-04-24/
END:VEVENT
BEGIN:VEVENT
DTSTART;TZID=America/Los_Angeles:20250410T183000
DTEND;TZID=America/Los_Angeles:20250410T193000
DTSTAMP:20260420T183409
CREATED:20241230T163019Z
LAST-MODIFIED:20241230T163257Z
UID:10000170-1744309800-1744313400@evergreenvirtual.org
SUMMARY:EVA Board Work Session
DESCRIPTION:You are invited to a Zoom webinar. \nWhen: The EVA Board of Directors monthly meetings are the fourth Thursday of each month at 6:30pm. Board work sessions are the second Thursday of each month.* \nTopic: EVA Board Meeting \n  \nPlease click the link below to join the webinar: \nhttps://evergreenvirtual-org.zoom.us/j/86346138790 One tap mobile : \nUS: +13462487799\,\,87254322950#  or +16699009128\,87254322950# \nOr Telephone: \nDial(for higher quality\, dial a number based on your current location): \nUS: +1 346 248 7799  or +1 669 900 9128  or +1 253 215 8782  or +1 312 626 6799  or +1 646 558 8656  or +1 301 715 8592 \nWebinar ID: 872 5432 2950 \nInternational numbers available: https://us02web.zoom.us/u/kgBBLdhBw \n  \n*Day and Time are subject to change
URL:https://evergreenvirtual.org/calendar/eva-board-work-session-2/2025-04-10/
END:VEVENT
BEGIN:VEVENT
DTSTART;VALUE=DATE:20250409
DTEND;VALUE=DATE:20250410
DTSTAMP:20260420T183409
CREATED:20240911T193304Z
LAST-MODIFIED:20250319T155816Z
UID:10000121-1744156800-1744243199@evergreenvirtual.org
SUMMARY:New Enrollment Cohort Start Dates
DESCRIPTION:EVA welcomes new student cohorts each week.  In order to support a strong start for each student\, all documents must be submitted by end of day each Friday.  Students will start with their onboarding cohort the following Wednesday.
URL:https://evergreenvirtual.org/calendar/new-enrollment-cohort-start-dates/2025-04-09/
END:VEVENT
BEGIN:VEVENT
DTSTART;TZID=America/Los_Angeles:20250404T140000
DTEND;TZID=America/Los_Angeles:20250404T160000
DTSTAMP:20260420T183409
CREATED:20240602T173150Z
LAST-MODIFIED:20240927T171921Z
UID:10000016-1743775200-1743782400@evergreenvirtual.org
SUMMARY:EVA Tulip Festival EVenture
DESCRIPTION:More details will be posted to our activities corner as we get closer to this event.
URL:https://evergreenvirtual.org/calendar/eva-tulip-festival-eventure/
CATEGORIES:Outings
END:VEVENT
BEGIN:VEVENT
DTSTART;VALUE=DATE:20250404
DTEND;VALUE=DATE:20250405
DTSTAMP:20260420T183409
CREATED:20240602T173109Z
LAST-MODIFIED:20240927T171921Z
UID:10000015-1743724800-1743811199@evergreenvirtual.org
SUMMARY:EVA Wildlife EVenture
DESCRIPTION:More details will be posted to our activities corner as we get closer to this event.
URL:https://evergreenvirtual.org/calendar/eva-wildlife-eventure/
CATEGORIES:Outings
END:VEVENT
BEGIN:VEVENT
DTSTART;VALUE=DATE:20250331
DTEND;VALUE=DATE:20250401
DTSTAMP:20260420T183409
CREATED:20250319T155317Z
LAST-MODIFIED:20250319T155318Z
UID:10000119-1743379200-1743465599@evergreenvirtual.org
SUMMARY:New Enrollment Cohort Start Dates
DESCRIPTION:EVA welcomes new student cohorts each week.
URL:https://evergreenvirtual.org/calendar/new-enrollment-cohort-start-dates-4/
END:VEVENT
BEGIN:VEVENT
DTSTART;VALUE=DATE:20250331
DTEND;VALUE=DATE:20250401
DTSTAMP:20260420T183409
CREATED:20240911T192913Z
LAST-MODIFIED:20250319T155516Z
UID:10000090-1743379200-1743465599@evergreenvirtual.org
SUMMARY:Enrollment Approval Deadline
DESCRIPTION:This is EVA’s final new enrollment cohort for school year 2024-2025.  All documents must be submitted by end of day 3/31.  Students will start with their onboarding cohort the following Wednesday 4/9/2025.
URL:https://evergreenvirtual.org/calendar/enrollment-approval-deadline-2/
END:VEVENT
BEGIN:VEVENT
DTSTART;VALUE=DATE:20250324
DTEND;VALUE=DATE:20250329
DTSTAMP:20260420T183409
CREATED:20250319T155212Z
LAST-MODIFIED:20250319T155212Z
UID:10000181-1742774400-1743206399@evergreenvirtual.org
SUMMARY:Spring Break - No School
DESCRIPTION:
URL:https://evergreenvirtual.org/calendar/spring-break-no-school/
END:VEVENT
END:VCALENDAR