BEGIN:VCALENDAR
VERSION:2.0
PRODID:-//Evergreen Virtual Academy - ECPv6.15.20//NONSGML v1.0//EN
CALSCALE:GREGORIAN
METHOD:PUBLISH
X-WR-CALNAME:Evergreen Virtual Academy
X-ORIGINAL-URL:https://evergreenvirtual.org
X-WR-CALDESC:Events for Evergreen Virtual Academy
REFRESH-INTERVAL;VALUE=DURATION:PT1H
X-Robots-Tag:noindex
X-PUBLISHED-TTL:PT1H
BEGIN:VTIMEZONE
TZID:America/Los_Angeles
BEGIN:DAYLIGHT
TZOFFSETFROM:-0800
TZOFFSETTO:-0700
TZNAME:PDT
DTSTART:20230312T100000
END:DAYLIGHT
BEGIN:STANDARD
TZOFFSETFROM:-0700
TZOFFSETTO:-0800
TZNAME:PST
DTSTART:20231105T090000
END:STANDARD
BEGIN:DAYLIGHT
TZOFFSETFROM:-0800
TZOFFSETTO:-0700
TZNAME:PDT
DTSTART:20240310T100000
END:DAYLIGHT
BEGIN:STANDARD
TZOFFSETFROM:-0700
TZOFFSETTO:-0800
TZNAME:PST
DTSTART:20241103T090000
END:STANDARD
BEGIN:DAYLIGHT
TZOFFSETFROM:-0800
TZOFFSETTO:-0700
TZNAME:PDT
DTSTART:20250309T100000
END:DAYLIGHT
BEGIN:STANDARD
TZOFFSETFROM:-0700
TZOFFSETTO:-0800
TZNAME:PST
DTSTART:20251102T090000
END:STANDARD
BEGIN:DAYLIGHT
TZOFFSETFROM:-0800
TZOFFSETTO:-0700
TZNAME:PDT
DTSTART:20260308T100000
END:DAYLIGHT
BEGIN:STANDARD
TZOFFSETFROM:-0700
TZOFFSETTO:-0800
TZNAME:PST
DTSTART:20261101T090000
END:STANDARD
END:VTIMEZONE
BEGIN:VEVENT
DTSTART;VALUE=DATE:20241223
DTEND;VALUE=DATE:20250104
DTSTAMP:20260422T153146
CREATED:20240829T185637Z
LAST-MODIFIED:20240829T185637Z
UID:10000057-1734912000-1735948799@evergreenvirtual.org
SUMMARY:No School - Winter Break
DESCRIPTION:
URL:https://evergreenvirtual.org/calendar/no-school-winter-break/
END:VEVENT
BEGIN:VEVENT
DTSTART;VALUE=DATE:20241218
DTEND;VALUE=DATE:20241219
DTSTAMP:20260422T153146
CREATED:20240911T193304Z
LAST-MODIFIED:20250319T155816Z
UID:10000105-1734480000-1734566399@evergreenvirtual.org
SUMMARY:New Enrollment Cohort Start Dates
DESCRIPTION:EVA welcomes new student cohorts each week.  In order to support a strong start for each student\, all documents must be submitted by end of day each Friday.  Students will start with their onboarding cohort the following Wednesday.
URL:https://evergreenvirtual.org/calendar/new-enrollment-cohort-start-dates/2024-12-18/
END:VEVENT
BEGIN:VEVENT
DTSTART;VALUE=DATE:20241216
DTEND;VALUE=DATE:20241217
DTSTAMP:20260422T153146
CREATED:20241119T225345Z
LAST-MODIFIED:20241119T234857Z
UID:10000163-1734307200-1734393599@evergreenvirtual.org
SUMMARY:Middle School Spelling Bee @ 2PM
DESCRIPTION:Please check your canvas calendar for class link.  Reach out to your Engagement Coach if you have questions.
URL:https://evergreenvirtual.org/calendar/middle-school-spelling-bee-2pm/
END:VEVENT
BEGIN:VEVENT
DTSTART;VALUE=DATE:20241213
DTEND;VALUE=DATE:20241214
DTSTAMP:20260422T153146
CREATED:20240911T192834Z
LAST-MODIFIED:20240911T192834Z
UID:10000077-1734048000-1734134399@evergreenvirtual.org
SUMMARY:Enrollment Approval Deadline
DESCRIPTION:EVA welcomes new student cohorts each week.  In order to support a strong start for each student\, all documents must be submitted by end of day each Friday.  Students will start with their onboarding cohort the following Wednesday.
URL:https://evergreenvirtual.org/calendar/enrollment-approval-deadline/2024-12-13/
END:VEVENT
BEGIN:VEVENT
DTSTART;TZID=America/Los_Angeles:20241212T190000
DTEND;TZID=America/Los_Angeles:20241212T200000
DTSTAMP:20260422T153146
CREATED:20240905T221818Z
LAST-MODIFIED:20240925T170704Z
UID:10000148-1734030000-1734033600@evergreenvirtual.org
SUMMARY:EVA Board Meeting
DESCRIPTION:You are invited to a Zoom webinar. \nWhen: The EVA Board of Directors monthly meetings are the fourth Tuesday of each month at 7pm. Board work sessions are the second Tuesday of each month.* \nTopic: EVA Board Meeting \n  \nPlease click the link below to join the webinar: \nhttps://evergreenvirtual-org.zoom.us/j/86346138790 One tap mobile : \nUS: +13462487799\,\,87254322950#  or +16699009128\,\,87254322950# \nOr Telephone: \nDial(for higher quality\, dial a number based on your current location): \nUS: +1 346 248 7799  or +1 669 900 9128  or +1 253 215 8782  or +1 312 626 6799  or +1 646 558 8656  or +1 301 715 8592 \nWebinar ID: 872 5432 2950 \nInternational numbers available: https://us02web.zoom.us/u/kgBBLdhBw \n  \n*Day and Time are subject to change
URL:https://evergreenvirtual.org/calendar/eva-board-meeting/2024-12-12/
END:VEVENT
BEGIN:VEVENT
DTSTART;VALUE=DATE:20241211
DTEND;VALUE=DATE:20241212
DTSTAMP:20260422T153146
CREATED:20241120T214530Z
LAST-MODIFIED:20241120T214718Z
UID:10000166-1733875200-1733961599@evergreenvirtual.org
SUMMARY:5-6th Grade Winter Painting Virtual EVenture @12:30 PM
DESCRIPTION:Be sure to sign up before December 4th to secure your spot.  You can find a link to the ticket in our Activities Corner.  Check your Canvas calendar for the link to attend on the day & time of this event.
URL:https://evergreenvirtual.org/calendar/5-6th-grade-winter-painting-virtual-eventure-1230-pm/
END:VEVENT
BEGIN:VEVENT
DTSTART;VALUE=DATE:20241211
DTEND;VALUE=DATE:20241212
DTSTAMP:20260422T153146
CREATED:20240911T193304Z
LAST-MODIFIED:20250319T155816Z
UID:10000104-1733875200-1733961599@evergreenvirtual.org
SUMMARY:New Enrollment Cohort Start Dates
DESCRIPTION:EVA welcomes new student cohorts each week.  In order to support a strong start for each student\, all documents must be submitted by end of day each Friday.  Students will start with their onboarding cohort the following Wednesday.
URL:https://evergreenvirtual.org/calendar/new-enrollment-cohort-start-dates/2024-12-11/
END:VEVENT
BEGIN:VEVENT
DTSTART;VALUE=DATE:20241210
DTEND;VALUE=DATE:20241211
DTSTAMP:20260422T153146
CREATED:20241120T214449Z
LAST-MODIFIED:20241120T214751Z
UID:10000165-1733788800-1733875199@evergreenvirtual.org
SUMMARY:PreK-1st Grade Winter Painting Virtual EVenture @ 1:30 PM
DESCRIPTION:Be sure to sign up before December 4th to secure your spot.  You can find a link to the ticket in our Activities Corner.  Check your Canvas calendar for the link to attend on the day & time of this event.
URL:https://evergreenvirtual.org/calendar/prek-1st-grade-winter-painting-virtual-eventure-130-pm/
END:VEVENT
BEGIN:VEVENT
DTSTART;VALUE=DATE:20241209
DTEND;VALUE=DATE:20241210
DTSTAMP:20260422T153146
CREATED:20241120T214405Z
LAST-MODIFIED:20241120T214838Z
UID:10000164-1733702400-1733788799@evergreenvirtual.org
SUMMARY:7-8th Grade Winter Painting Virtual EVenture @ 12 PM
DESCRIPTION:Be sure to sign up before December 4th to secure your spot.  You can find a link to the ticket in our Activities Corner.  Check your Canvas calendar for the link to attend on the day & time of this event.
URL:https://evergreenvirtual.org/calendar/7-8th-grade-winter-painting-virtual-eventure-12-pm/
END:VEVENT
BEGIN:VEVENT
DTSTART;VALUE=DATE:20241209
DTEND;VALUE=DATE:20241210
DTSTAMP:20260422T153146
CREATED:20241119T225306Z
LAST-MODIFIED:20241119T225306Z
UID:10000162-1733702400-1733788799@evergreenvirtual.org
SUMMARY:Elementary Spelling Bee @ 2PM
DESCRIPTION:Please check your canvas calendar for class link.  Reach out to your Engagement Coach if you have questions.
URL:https://evergreenvirtual.org/calendar/elementary-spelling-bee-2pm/
END:VEVENT
BEGIN:VEVENT
DTSTART;TZID=America/Los_Angeles:20241206T130000
DTEND;TZID=America/Los_Angeles:20241206T150000
DTSTAMP:20260422T153146
CREATED:20240602T172822Z
LAST-MODIFIED:20241120T214021Z
UID:10000013-1733490000-1733497200@evergreenvirtual.org
SUMMARY:EVA Zoo Exploration EVenture
DESCRIPTION:More details will be posted to our activities corner as we get closer to this event.
URL:https://evergreenvirtual.org/calendar/eva-zoo-exploration-eventure/
CATEGORIES:Outings
END:VEVENT
BEGIN:VEVENT
DTSTART;VALUE=DATE:20241206
DTEND;VALUE=DATE:20241207
DTSTAMP:20260422T153146
CREATED:20240911T192834Z
LAST-MODIFIED:20240911T192834Z
UID:10000076-1733443200-1733529599@evergreenvirtual.org
SUMMARY:Enrollment Approval Deadline
DESCRIPTION:EVA welcomes new student cohorts each week.  In order to support a strong start for each student\, all documents must be submitted by end of day each Friday.  Students will start with their onboarding cohort the following Wednesday.
URL:https://evergreenvirtual.org/calendar/enrollment-approval-deadline/2024-12-06/
END:VEVENT
BEGIN:VEVENT
DTSTART;VALUE=DATE:20241204
DTEND;VALUE=DATE:20241205
DTSTAMP:20260422T153146
CREATED:20240911T193304Z
LAST-MODIFIED:20250319T155816Z
UID:10000103-1733270400-1733356799@evergreenvirtual.org
SUMMARY:New Enrollment Cohort Start Dates
DESCRIPTION:EVA welcomes new student cohorts each week.  In order to support a strong start for each student\, all documents must be submitted by end of day each Friday.  Students will start with their onboarding cohort the following Wednesday.
URL:https://evergreenvirtual.org/calendar/new-enrollment-cohort-start-dates/2024-12-04/
END:VEVENT
BEGIN:VEVENT
DTSTART;VALUE=DATE:20241129
DTEND;VALUE=DATE:20241130
DTSTAMP:20260422T153146
CREATED:20240911T192834Z
LAST-MODIFIED:20240911T192834Z
UID:10000075-1732838400-1732924799@evergreenvirtual.org
SUMMARY:Enrollment Approval Deadline
DESCRIPTION:EVA welcomes new student cohorts each week.  In order to support a strong start for each student\, all documents must be submitted by end of day each Friday.  Students will start with their onboarding cohort the following Wednesday.
URL:https://evergreenvirtual.org/calendar/enrollment-approval-deadline/2024-11-29/
END:VEVENT
BEGIN:VEVENT
DTSTART;VALUE=DATE:20241127
DTEND;VALUE=DATE:20241128
DTSTAMP:20260422T153146
CREATED:20240911T193304Z
LAST-MODIFIED:20250319T155816Z
UID:10000102-1732665600-1732751999@evergreenvirtual.org
SUMMARY:New Enrollment Cohort Start Dates
DESCRIPTION:EVA welcomes new student cohorts each week.  In order to support a strong start for each student\, all documents must be submitted by end of day each Friday.  Students will start with their onboarding cohort the following Wednesday.
URL:https://evergreenvirtual.org/calendar/new-enrollment-cohort-start-dates/2024-11-27/
END:VEVENT
BEGIN:VEVENT
DTSTART;VALUE=DATE:20241125
DTEND;VALUE=DATE:20241130
DTSTAMP:20260422T153146
CREATED:20240829T185447Z
LAST-MODIFIED:20241119T223833Z
UID:10000056-1732492800-1732924799@evergreenvirtual.org
SUMMARY:No School - Fall Break - Thanksgiving Holiday
DESCRIPTION:
URL:https://evergreenvirtual.org/calendar/no-school-thanksgiving-holiday/
END:VEVENT
BEGIN:VEVENT
DTSTART;VALUE=DATE:20241125
DTEND;VALUE=DATE:20241127
DTSTAMP:20260422T153146
CREATED:20240829T185351Z
LAST-MODIFIED:20240927T171924Z
UID:10000055-1732492800-1732665599@evergreenvirtual.org
SUMMARY:No School - Teacher Professional Development
DESCRIPTION:
URL:https://evergreenvirtual.org/calendar/no-school-teacher-professional-development-2/
CATEGORIES:Outings
END:VEVENT
BEGIN:VEVENT
DTSTART;TZID=America/Los_Angeles:20241120T080000
DTEND;TZID=America/Los_Angeles:20241120T170000
DTSTAMP:20260422T153146
CREATED:20241120T214635Z
LAST-MODIFIED:20241120T214635Z
UID:10000167-1732089600-1732122000@evergreenvirtual.org
SUMMARY:9-12th Grade Winter Painting Virtual EVenture @ 11:50 AM
DESCRIPTION:Be sure to sign up before December 4th to secure your spot.  You can find a link to the ticket in our Activities Corner.  Check your Canvas calendar for the link to attend on the day & time of this event.
URL:https://evergreenvirtual.org/calendar/9-12th-grade-winter-painting-virtual-eventure-1150-am/
END:VEVENT
BEGIN:VEVENT
DTSTART;VALUE=DATE:20241120
DTEND;VALUE=DATE:20241121
DTSTAMP:20260422T153146
CREATED:20240911T193304Z
LAST-MODIFIED:20250319T155816Z
UID:10000101-1732060800-1732147199@evergreenvirtual.org
SUMMARY:New Enrollment Cohort Start Dates
DESCRIPTION:EVA welcomes new student cohorts each week.  In order to support a strong start for each student\, all documents must be submitted by end of day each Friday.  Students will start with their onboarding cohort the following Wednesday.
URL:https://evergreenvirtual.org/calendar/new-enrollment-cohort-start-dates/2024-11-20/
END:VEVENT
BEGIN:VEVENT
DTSTART;VALUE=DATE:20241115
DTEND;VALUE=DATE:20241116
DTSTAMP:20260422T153146
CREATED:20240911T192834Z
LAST-MODIFIED:20240911T192834Z
UID:10000074-1731628800-1731715199@evergreenvirtual.org
SUMMARY:Enrollment Approval Deadline
DESCRIPTION:EVA welcomes new student cohorts each week.  In order to support a strong start for each student\, all documents must be submitted by end of day each Friday.  Students will start with their onboarding cohort the following Wednesday.
URL:https://evergreenvirtual.org/calendar/enrollment-approval-deadline/2024-11-15/
END:VEVENT
BEGIN:VEVENT
DTSTART;TZID=America/Los_Angeles:20241114T190000
DTEND;TZID=America/Los_Angeles:20241114T200000
DTSTAMP:20260422T153146
CREATED:20240905T221818Z
LAST-MODIFIED:20240925T170704Z
UID:10000147-1731610800-1731614400@evergreenvirtual.org
SUMMARY:EVA Board Meeting
DESCRIPTION:You are invited to a Zoom webinar. \nWhen: The EVA Board of Directors monthly meetings are the fourth Tuesday of each month at 7pm. Board work sessions are the second Tuesday of each month.* \nTopic: EVA Board Meeting \n  \nPlease click the link below to join the webinar: \nhttps://evergreenvirtual-org.zoom.us/j/86346138790 One tap mobile : \nUS: +13462487799\,\,87254322950#  or +16699009128\,\,87254322950# \nOr Telephone: \nDial(for higher quality\, dial a number based on your current location): \nUS: +1 346 248 7799  or +1 669 900 9128  or +1 253 215 8782  or +1 312 626 6799  or +1 646 558 8656  or +1 301 715 8592 \nWebinar ID: 872 5432 2950 \nInternational numbers available: https://us02web.zoom.us/u/kgBBLdhBw \n  \n*Day and Time are subject to change
URL:https://evergreenvirtual.org/calendar/eva-board-meeting/2024-11-14/
END:VEVENT
BEGIN:VEVENT
DTSTART;VALUE=DATE:20241113
DTEND;VALUE=DATE:20241114
DTSTAMP:20260422T153146
CREATED:20240911T193304Z
LAST-MODIFIED:20250319T155816Z
UID:10000100-1731456000-1731542399@evergreenvirtual.org
SUMMARY:New Enrollment Cohort Start Dates
DESCRIPTION:EVA welcomes new student cohorts each week.  In order to support a strong start for each student\, all documents must be submitted by end of day each Friday.  Students will start with their onboarding cohort the following Wednesday.
URL:https://evergreenvirtual.org/calendar/new-enrollment-cohort-start-dates/2024-11-13/
END:VEVENT
BEGIN:VEVENT
DTSTART;TZID=America/Los_Angeles:20241111T080000
DTEND;TZID=America/Los_Angeles:20241111T170000
DTSTAMP:20260422T153146
CREATED:20240829T185259Z
LAST-MODIFIED:20240927T171925Z
UID:10000054-1731312000-1731344400@evergreenvirtual.org
SUMMARY:No School - Veteran's Day Observed
DESCRIPTION:
URL:https://evergreenvirtual.org/calendar/no-school-veterans-day-observed/
CATEGORIES:Outings
END:VEVENT
BEGIN:VEVENT
DTSTART;VALUE=DATE:20241108
DTEND;VALUE=DATE:20241109
DTSTAMP:20260422T153146
CREATED:20240911T192834Z
LAST-MODIFIED:20240911T192834Z
UID:10000073-1731024000-1731110399@evergreenvirtual.org
SUMMARY:Enrollment Approval Deadline
DESCRIPTION:EVA welcomes new student cohorts each week.  In order to support a strong start for each student\, all documents must be submitted by end of day each Friday.  Students will start with their onboarding cohort the following Wednesday.
URL:https://evergreenvirtual.org/calendar/enrollment-approval-deadline/2024-11-08/
END:VEVENT
BEGIN:VEVENT
DTSTART;VALUE=DATE:20241106
DTEND;VALUE=DATE:20241107
DTSTAMP:20260422T153146
CREATED:20240911T193304Z
LAST-MODIFIED:20250319T155816Z
UID:10000099-1730851200-1730937599@evergreenvirtual.org
SUMMARY:New Enrollment Cohort Start Dates
DESCRIPTION:EVA welcomes new student cohorts each week.  In order to support a strong start for each student\, all documents must be submitted by end of day each Friday.  Students will start with their onboarding cohort the following Wednesday.
URL:https://evergreenvirtual.org/calendar/new-enrollment-cohort-start-dates/2024-11-06/
END:VEVENT
BEGIN:VEVENT
DTSTART;VALUE=DATE:20241101
DTEND;VALUE=DATE:20241102
DTSTAMP:20260422T153146
CREATED:20240911T192834Z
LAST-MODIFIED:20240911T192834Z
UID:10000072-1730419200-1730505599@evergreenvirtual.org
SUMMARY:Enrollment Approval Deadline
DESCRIPTION:EVA welcomes new student cohorts each week.  In order to support a strong start for each student\, all documents must be submitted by end of day each Friday.  Students will start with their onboarding cohort the following Wednesday.
URL:https://evergreenvirtual.org/calendar/enrollment-approval-deadline/2024-11-01/
END:VEVENT
BEGIN:VEVENT
DTSTART;VALUE=DATE:20241030
DTEND;VALUE=DATE:20241031
DTSTAMP:20260422T153146
CREATED:20240911T193304Z
LAST-MODIFIED:20250319T155816Z
UID:10000098-1730246400-1730332799@evergreenvirtual.org
SUMMARY:New Enrollment Cohort Start Dates
DESCRIPTION:EVA welcomes new student cohorts each week.  In order to support a strong start for each student\, all documents must be submitted by end of day each Friday.  Students will start with their onboarding cohort the following Wednesday.
URL:https://evergreenvirtual.org/calendar/new-enrollment-cohort-start-dates/2024-10-30/
END:VEVENT
BEGIN:VEVENT
DTSTART;TZID=America/Los_Angeles:20241025T140000
DTEND;TZID=America/Los_Angeles:20241025T160000
DTSTAMP:20260422T153146
CREATED:20240602T172643Z
LAST-MODIFIED:20240927T171925Z
UID:10000012-1729864800-1729872000@evergreenvirtual.org
SUMMARY:EVA Pumpkin Patch EVenture
DESCRIPTION:We will meet at various pumpkin patch locations around the state.  More details will be posted to our activities corner as we get closer to this event.
URL:https://evergreenvirtual.org/calendar/eva-pumpkin-patch-eventure/
CATEGORIES:Outings
END:VEVENT
BEGIN:VEVENT
DTSTART;VALUE=DATE:20241025
DTEND;VALUE=DATE:20241026
DTSTAMP:20260422T153146
CREATED:20240911T192834Z
LAST-MODIFIED:20240911T192834Z
UID:10000071-1729814400-1729900799@evergreenvirtual.org
SUMMARY:Enrollment Approval Deadline
DESCRIPTION:EVA welcomes new student cohorts each week.  In order to support a strong start for each student\, all documents must be submitted by end of day each Friday.  Students will start with their onboarding cohort the following Wednesday.
URL:https://evergreenvirtual.org/calendar/enrollment-approval-deadline/2024-10-25/
END:VEVENT
BEGIN:VEVENT
DTSTART;TZID=America/Los_Angeles:20241024T190000
DTEND;TZID=America/Los_Angeles:20241024T200000
DTSTAMP:20260422T153146
CREATED:20240905T221818Z
LAST-MODIFIED:20240925T170704Z
UID:10000146-1729796400-1729800000@evergreenvirtual.org
SUMMARY:EVA Board Meeting
DESCRIPTION:You are invited to a Zoom webinar. \nWhen: The EVA Board of Directors monthly meetings are the fourth Tuesday of each month at 7pm. Board work sessions are the second Tuesday of each month.* \nTopic: EVA Board Meeting \n  \nPlease click the link below to join the webinar: \nhttps://evergreenvirtual-org.zoom.us/j/86346138790 One tap mobile : \nUS: +13462487799\,\,87254322950#  or +16699009128\,\,87254322950# \nOr Telephone: \nDial(for higher quality\, dial a number based on your current location): \nUS: +1 346 248 7799  or +1 669 900 9128  or +1 253 215 8782  or +1 312 626 6799  or +1 646 558 8656  or +1 301 715 8592 \nWebinar ID: 872 5432 2950 \nInternational numbers available: https://us02web.zoom.us/u/kgBBLdhBw \n  \n*Day and Time are subject to change
URL:https://evergreenvirtual.org/calendar/eva-board-meeting/2024-10-24/
END:VEVENT
END:VCALENDAR