BEGIN:VCALENDAR
VERSION:2.0
PRODID:-//Evergreen Virtual Academy - ECPv6.15.20//NONSGML v1.0//EN
CALSCALE:GREGORIAN
METHOD:PUBLISH
X-ORIGINAL-URL:https://evergreenvirtual.org
X-WR-CALDESC:Events for Evergreen Virtual Academy
REFRESH-INTERVAL;VALUE=DURATION:PT1H
X-Robots-Tag:noindex
X-PUBLISHED-TTL:PT1H
BEGIN:VTIMEZONE
TZID:America/Los_Angeles
BEGIN:DAYLIGHT
TZOFFSETFROM:-0800
TZOFFSETTO:-0700
TZNAME:PDT
DTSTART:20240310T100000
END:DAYLIGHT
BEGIN:STANDARD
TZOFFSETFROM:-0700
TZOFFSETTO:-0800
TZNAME:PST
DTSTART:20241103T090000
END:STANDARD
BEGIN:DAYLIGHT
TZOFFSETFROM:-0800
TZOFFSETTO:-0700
TZNAME:PDT
DTSTART:20250309T100000
END:DAYLIGHT
BEGIN:STANDARD
TZOFFSETFROM:-0700
TZOFFSETTO:-0800
TZNAME:PST
DTSTART:20251102T090000
END:STANDARD
BEGIN:DAYLIGHT
TZOFFSETFROM:-0800
TZOFFSETTO:-0700
TZNAME:PDT
DTSTART:20260308T100000
END:DAYLIGHT
BEGIN:STANDARD
TZOFFSETFROM:-0700
TZOFFSETTO:-0800
TZNAME:PST
DTSTART:20261101T090000
END:STANDARD
END:VTIMEZONE
BEGIN:VEVENT
DTSTART;TZID=America/Los_Angeles:20250201T180000
DTEND;TZID=America/Los_Angeles:20250201T190000
DTSTAMP:20260423T213739
CREATED:20241230T163600Z
LAST-MODIFIED:20241230T163743Z
UID:10000174-1738432800-1738436400@evergreenvirtual.org
SUMMARY:EVA Board Meeting
DESCRIPTION:You are invited to a Zoom webinar. \nWhen: The EVA Board of Directors monthly meetings are the fourth Thursday of each month at 6:30pm. Board work sessions are the second Thursday of each month.* \nTopic: EVA Board Meeting \n  \nPlease click the link below to join the webinar: \nhttps://evergreenvirtual-org.zoom.us/j/86346138790 One tap mobile : \nUS: +13462487799\,\,87254322950#  or +16699009128\,\,87254322950# \nOr Telephone: \nDial(for higher quality\, dial a number based on your current location): \nUS: +1 346 248 7799  or +1 669 900 9128  or +1 253 215 8782  or +1 312 626 6799  or +1 646 558 8656  or +1 301 715 8592 \nWebinar ID: 872 5432 2950 \nInternational numbers available: https://us02web.zoom.us/u/kgBBLdhBw \n  \n*Day and Time are subject to change
URL:https://evergreenvirtual.org/calendar/eva-board-meeting-2/2025-02-01/
END:VEVENT
BEGIN:VEVENT
DTSTART;VALUE=DATE:20250203
DTEND;VALUE=DATE:20250204
DTSTAMP:20260423T213739
CREATED:20241119T224904Z
LAST-MODIFIED:20241119T224905Z
UID:10000112-1738540800-1738627199@evergreenvirtual.org
SUMMARY:New Enrollment Cohort Start Dates
DESCRIPTION:EVA welcomes new student cohorts each week.  In order to support a strong start for each student\, all documents must be submitted by 1/29/25.  Students will start with their onboarding cohort on Monday\, 2/3/25.
URL:https://evergreenvirtual.org/calendar/new-enrollment-cohort-start-dates-3/
END:VEVENT
BEGIN:VEVENT
DTSTART;VALUE=DATE:20250207
DTEND;VALUE=DATE:20250208
DTSTAMP:20260423T213739
CREATED:20240911T192834Z
LAST-MODIFIED:20240911T192834Z
UID:10000083-1738886400-1738972799@evergreenvirtual.org
SUMMARY:Enrollment Approval Deadline
DESCRIPTION:EVA welcomes new student cohorts each week.  In order to support a strong start for each student\, all documents must be submitted by end of day each Friday.  Students will start with their onboarding cohort the following Wednesday.
URL:https://evergreenvirtual.org/calendar/enrollment-approval-deadline/2025-02-07/
END:VEVENT
BEGIN:VEVENT
DTSTART;VALUE=DATE:20250212
DTEND;VALUE=DATE:20250213
DTSTAMP:20260423T213739
CREATED:20240911T193304Z
LAST-MODIFIED:20250319T155816Z
UID:10000113-1739318400-1739404799@evergreenvirtual.org
SUMMARY:New Enrollment Cohort Start Dates
DESCRIPTION:EVA welcomes new student cohorts each week.  In order to support a strong start for each student\, all documents must be submitted by end of day each Friday.  Students will start with their onboarding cohort the following Wednesday.
URL:https://evergreenvirtual.org/calendar/new-enrollment-cohort-start-dates/2025-02-12/
END:VEVENT
BEGIN:VEVENT
DTSTART;TZID=America/Los_Angeles:20250213T183000
DTEND;TZID=America/Los_Angeles:20250213T193000
DTSTAMP:20260423T213739
CREATED:20241230T163019Z
LAST-MODIFIED:20241230T163257Z
UID:10000169-1739471400-1739475000@evergreenvirtual.org
SUMMARY:EVA Board Work Session
DESCRIPTION:You are invited to a Zoom webinar. \nWhen: The EVA Board of Directors monthly meetings are the fourth Thursday of each month at 6:30pm. Board work sessions are the second Thursday of each month.* \nTopic: EVA Board Meeting \n  \nPlease click the link below to join the webinar: \nhttps://evergreenvirtual-org.zoom.us/j/86346138790 One tap mobile : \nUS: +13462487799\,\,87254322950#  or +16699009128\,87254322950# \nOr Telephone: \nDial(for higher quality\, dial a number based on your current location): \nUS: +1 346 248 7799  or +1 669 900 9128  or +1 253 215 8782  or +1 312 626 6799  or +1 646 558 8656  or +1 301 715 8592 \nWebinar ID: 872 5432 2950 \nInternational numbers available: https://us02web.zoom.us/u/kgBBLdhBw \n  \n*Day and Time are subject to change
URL:https://evergreenvirtual.org/calendar/eva-board-work-session-2/2025-02-13/
END:VEVENT
BEGIN:VEVENT
DTSTART;VALUE=DATE:20250214
DTEND;VALUE=DATE:20250215
DTSTAMP:20260423T213739
CREATED:20240911T192834Z
LAST-MODIFIED:20240911T192834Z
UID:10000084-1739491200-1739577599@evergreenvirtual.org
SUMMARY:Enrollment Approval Deadline
DESCRIPTION:EVA welcomes new student cohorts each week.  In order to support a strong start for each student\, all documents must be submitted by end of day each Friday.  Students will start with their onboarding cohort the following Wednesday.
URL:https://evergreenvirtual.org/calendar/enrollment-approval-deadline/2025-02-14/
END:VEVENT
BEGIN:VEVENT
DTSTART;VALUE=DATE:20250219
DTEND;VALUE=DATE:20250220
DTSTAMP:20260423T213739
CREATED:20240911T193304Z
LAST-MODIFIED:20250319T155816Z
UID:10000114-1739923200-1740009599@evergreenvirtual.org
SUMMARY:New Enrollment Cohort Start Dates
DESCRIPTION:EVA welcomes new student cohorts each week.  In order to support a strong start for each student\, all documents must be submitted by end of day each Friday.  Students will start with their onboarding cohort the following Wednesday.
URL:https://evergreenvirtual.org/calendar/new-enrollment-cohort-start-dates/2025-02-19/
END:VEVENT
BEGIN:VEVENT
DTSTART;VALUE=DATE:20250221
DTEND;VALUE=DATE:20250222
DTSTAMP:20260423T213739
CREATED:20240911T192834Z
LAST-MODIFIED:20240911T192834Z
UID:10000085-1740096000-1740182399@evergreenvirtual.org
SUMMARY:Enrollment Approval Deadline
DESCRIPTION:EVA welcomes new student cohorts each week.  In order to support a strong start for each student\, all documents must be submitted by end of day each Friday.  Students will start with their onboarding cohort the following Wednesday.
URL:https://evergreenvirtual.org/calendar/enrollment-approval-deadline/2025-02-21/
END:VEVENT
BEGIN:VEVENT
DTSTART;VALUE=DATE:20250226
DTEND;VALUE=DATE:20250227
DTSTAMP:20260423T213739
CREATED:20240911T193304Z
LAST-MODIFIED:20250319T155816Z
UID:10000115-1740528000-1740614399@evergreenvirtual.org
SUMMARY:New Enrollment Cohort Start Dates
DESCRIPTION:EVA welcomes new student cohorts each week.  In order to support a strong start for each student\, all documents must be submitted by end of day each Friday.  Students will start with their onboarding cohort the following Wednesday.
URL:https://evergreenvirtual.org/calendar/new-enrollment-cohort-start-dates/2025-02-26/
END:VEVENT
BEGIN:VEVENT
DTSTART;TZID=America/Los_Angeles:20250227T183000
DTEND;TZID=America/Los_Angeles:20250227T193000
DTSTAMP:20260423T213739
CREATED:20241230T163600Z
LAST-MODIFIED:20241230T163743Z
UID:10000175-1740681000-1740684600@evergreenvirtual.org
SUMMARY:EVA Board Meeting
DESCRIPTION:You are invited to a Zoom webinar. \nWhen: The EVA Board of Directors monthly meetings are the fourth Thursday of each month at 6:30pm. Board work sessions are the second Thursday of each month.* \nTopic: EVA Board Meeting \n  \nPlease click the link below to join the webinar: \nhttps://evergreenvirtual-org.zoom.us/j/86346138790 One tap mobile : \nUS: +13462487799\,\,87254322950#  or +16699009128\,\,87254322950# \nOr Telephone: \nDial(for higher quality\, dial a number based on your current location): \nUS: +1 346 248 7799  or +1 669 900 9128  or +1 253 215 8782  or +1 312 626 6799  or +1 646 558 8656  or +1 301 715 8592 \nWebinar ID: 872 5432 2950 \nInternational numbers available: https://us02web.zoom.us/u/kgBBLdhBw \n  \n*Day and Time are subject to change
URL:https://evergreenvirtual.org/calendar/eva-board-meeting-2/2025-02-27/
END:VEVENT
BEGIN:VEVENT
DTSTART;VALUE=DATE:20250228
DTEND;VALUE=DATE:20250301
DTSTAMP:20260423T213739
CREATED:20240911T192834Z
LAST-MODIFIED:20240911T192834Z
UID:10000086-1740700800-1740787199@evergreenvirtual.org
SUMMARY:Enrollment Approval Deadline
DESCRIPTION:EVA welcomes new student cohorts each week.  In order to support a strong start for each student\, all documents must be submitted by end of day each Friday.  Students will start with their onboarding cohort the following Wednesday.
URL:https://evergreenvirtual.org/calendar/enrollment-approval-deadline/2025-02-28/
END:VEVENT
END:VCALENDAR