BEGIN:VCALENDAR
VERSION:2.0
PRODID:-//Evergreen Virtual Academy - ECPv6.15.20//NONSGML v1.0//EN
CALSCALE:GREGORIAN
METHOD:PUBLISH
X-ORIGINAL-URL:https://evergreenvirtual.org
X-WR-CALDESC:Events for Evergreen Virtual Academy
REFRESH-INTERVAL;VALUE=DURATION:PT1H
X-Robots-Tag:noindex
X-PUBLISHED-TTL:PT1H
BEGIN:VTIMEZONE
TZID:America/Los_Angeles
BEGIN:DAYLIGHT
TZOFFSETFROM:-0800
TZOFFSETTO:-0700
TZNAME:PDT
DTSTART:20240310T100000
END:DAYLIGHT
BEGIN:STANDARD
TZOFFSETFROM:-0700
TZOFFSETTO:-0800
TZNAME:PST
DTSTART:20241103T090000
END:STANDARD
BEGIN:DAYLIGHT
TZOFFSETFROM:-0800
TZOFFSETTO:-0700
TZNAME:PDT
DTSTART:20250309T100000
END:DAYLIGHT
BEGIN:STANDARD
TZOFFSETFROM:-0700
TZOFFSETTO:-0800
TZNAME:PST
DTSTART:20251102T090000
END:STANDARD
BEGIN:DAYLIGHT
TZOFFSETFROM:-0800
TZOFFSETTO:-0700
TZNAME:PDT
DTSTART:20260308T100000
END:DAYLIGHT
BEGIN:STANDARD
TZOFFSETFROM:-0700
TZOFFSETTO:-0800
TZNAME:PST
DTSTART:20261101T090000
END:STANDARD
END:VTIMEZONE
BEGIN:VEVENT
DTSTART;VALUE=DATE:20250305
DTEND;VALUE=DATE:20250306
DTSTAMP:20260424T022156
CREATED:20240911T193304Z
LAST-MODIFIED:20250319T155816Z
UID:10000116-1741132800-1741219199@evergreenvirtual.org
SUMMARY:New Enrollment Cohort Start Dates
DESCRIPTION:EVA welcomes new student cohorts each week.  In order to support a strong start for each student\, all documents must be submitted by end of day each Friday.  Students will start with their onboarding cohort the following Wednesday.
URL:https://evergreenvirtual.org/calendar/new-enrollment-cohort-start-dates/2025-03-05/
END:VEVENT
BEGIN:VEVENT
DTSTART;VALUE=DATE:20250307
DTEND;VALUE=DATE:20250308
DTSTAMP:20260424T022156
CREATED:20240911T192834Z
LAST-MODIFIED:20240911T192834Z
UID:10000087-1741305600-1741391999@evergreenvirtual.org
SUMMARY:Enrollment Approval Deadline
DESCRIPTION:EVA welcomes new student cohorts each week.  In order to support a strong start for each student\, all documents must be submitted by end of day each Friday.  Students will start with their onboarding cohort the following Wednesday.
URL:https://evergreenvirtual.org/calendar/enrollment-approval-deadline/2025-03-07/
END:VEVENT
BEGIN:VEVENT
DTSTART;TZID=America/Los_Angeles:20250307T140000
DTEND;TZID=America/Los_Angeles:20250307T160000
DTSTAMP:20260424T022156
CREATED:20240602T172944Z
LAST-MODIFIED:20240927T171922Z
UID:10000014-1741356000-1741363200@evergreenvirtual.org
SUMMARY:EVA Community Helpers EVenture
DESCRIPTION:More details will be posted to our activities corner as we get closer to this event.
URL:https://evergreenvirtual.org/calendar/eva-community-helpers-eventure/
CATEGORIES:Outings
END:VEVENT
BEGIN:VEVENT
DTSTART;VALUE=DATE:20250312
DTEND;VALUE=DATE:20250313
DTSTAMP:20260424T022156
CREATED:20240911T193304Z
LAST-MODIFIED:20250319T155816Z
UID:10000117-1741737600-1741823999@evergreenvirtual.org
SUMMARY:New Enrollment Cohort Start Dates
DESCRIPTION:EVA welcomes new student cohorts each week.  In order to support a strong start for each student\, all documents must be submitted by end of day each Friday.  Students will start with their onboarding cohort the following Wednesday.
URL:https://evergreenvirtual.org/calendar/new-enrollment-cohort-start-dates/2025-03-12/
END:VEVENT
BEGIN:VEVENT
DTSTART;TZID=America/Los_Angeles:20250313T183000
DTEND;TZID=America/Los_Angeles:20250313T193000
DTSTAMP:20260424T022156
CREATED:20241230T163600Z
LAST-MODIFIED:20241230T163743Z
UID:10000176-1741890600-1741894200@evergreenvirtual.org
SUMMARY:EVA Board Meeting
DESCRIPTION:You are invited to a Zoom webinar. \nWhen: The EVA Board of Directors monthly meetings are the fourth Thursday of each month at 6:30pm. Board work sessions are the second Thursday of each month.* \nTopic: EVA Board Meeting \n  \nPlease click the link below to join the webinar: \nhttps://evergreenvirtual-org.zoom.us/j/86346138790 One tap mobile : \nUS: +13462487799\,\,87254322950#  or +16699009128\,\,87254322950# \nOr Telephone: \nDial(for higher quality\, dial a number based on your current location): \nUS: +1 346 248 7799  or +1 669 900 9128  or +1 253 215 8782  or +1 312 626 6799  or +1 646 558 8656  or +1 301 715 8592 \nWebinar ID: 872 5432 2950 \nInternational numbers available: https://us02web.zoom.us/u/kgBBLdhBw \n  \n*Day and Time are subject to change
URL:https://evergreenvirtual.org/calendar/eva-board-meeting-2/2025-03-13/
END:VEVENT
BEGIN:VEVENT
DTSTART;VALUE=DATE:20250314
DTEND;VALUE=DATE:20250315
DTSTAMP:20260424T022156
CREATED:20240911T192834Z
LAST-MODIFIED:20240911T192834Z
UID:10000088-1741910400-1741996799@evergreenvirtual.org
SUMMARY:Enrollment Approval Deadline
DESCRIPTION:EVA welcomes new student cohorts each week.  In order to support a strong start for each student\, all documents must be submitted by end of day each Friday.  Students will start with their onboarding cohort the following Wednesday.
URL:https://evergreenvirtual.org/calendar/enrollment-approval-deadline/2025-03-14/
END:VEVENT
BEGIN:VEVENT
DTSTART;VALUE=DATE:20250319
DTEND;VALUE=DATE:20250320
DTSTAMP:20260424T022156
CREATED:20240911T193304Z
LAST-MODIFIED:20250319T155816Z
UID:10000118-1742342400-1742428799@evergreenvirtual.org
SUMMARY:New Enrollment Cohort Start Dates
DESCRIPTION:EVA welcomes new student cohorts each week.  In order to support a strong start for each student\, all documents must be submitted by end of day each Friday.  Students will start with their onboarding cohort the following Wednesday.
URL:https://evergreenvirtual.org/calendar/new-enrollment-cohort-start-dates/2025-03-19/
END:VEVENT
BEGIN:VEVENT
DTSTART;VALUE=DATE:20250321
DTEND;VALUE=DATE:20250322
DTSTAMP:20260424T022156
CREATED:20240911T192834Z
LAST-MODIFIED:20240911T192834Z
UID:10000089-1742515200-1742601599@evergreenvirtual.org
SUMMARY:Enrollment Approval Deadline
DESCRIPTION:EVA welcomes new student cohorts each week.  In order to support a strong start for each student\, all documents must be submitted by end of day each Friday.  Students will start with their onboarding cohort the following Wednesday.
URL:https://evergreenvirtual.org/calendar/enrollment-approval-deadline/2025-03-21/
END:VEVENT
BEGIN:VEVENT
DTSTART;VALUE=DATE:20250324
DTEND;VALUE=DATE:20250329
DTSTAMP:20260424T022156
CREATED:20250319T155212Z
LAST-MODIFIED:20250319T155212Z
UID:10000181-1742774400-1743206399@evergreenvirtual.org
SUMMARY:Spring Break - No School
DESCRIPTION:
URL:https://evergreenvirtual.org/calendar/spring-break-no-school/
END:VEVENT
BEGIN:VEVENT
DTSTART;VALUE=DATE:20250331
DTEND;VALUE=DATE:20250401
DTSTAMP:20260424T022156
CREATED:20240911T192913Z
LAST-MODIFIED:20250319T155516Z
UID:10000090-1743379200-1743465599@evergreenvirtual.org
SUMMARY:Enrollment Approval Deadline
DESCRIPTION:This is EVA’s final new enrollment cohort for school year 2024-2025.  All documents must be submitted by end of day 3/31.  Students will start with their onboarding cohort the following Wednesday 4/9/2025.
URL:https://evergreenvirtual.org/calendar/enrollment-approval-deadline-2/
END:VEVENT
BEGIN:VEVENT
DTSTART;VALUE=DATE:20250331
DTEND;VALUE=DATE:20250401
DTSTAMP:20260424T022156
CREATED:20250319T155317Z
LAST-MODIFIED:20250319T155318Z
UID:10000119-1743379200-1743465599@evergreenvirtual.org
SUMMARY:New Enrollment Cohort Start Dates
DESCRIPTION:EVA welcomes new student cohorts each week.
URL:https://evergreenvirtual.org/calendar/new-enrollment-cohort-start-dates-4/
END:VEVENT
END:VCALENDAR