BEGIN:VCALENDAR
VERSION:2.0
PRODID:-//Evergreen Virtual Academy - ECPv6.15.20//NONSGML v1.0//EN
CALSCALE:GREGORIAN
METHOD:PUBLISH
X-ORIGINAL-URL:https://evergreenvirtual.org
X-WR-CALDESC:Events for Evergreen Virtual Academy
REFRESH-INTERVAL;VALUE=DURATION:PT1H
X-Robots-Tag:noindex
X-PUBLISHED-TTL:PT1H
BEGIN:VTIMEZONE
TZID:America/Los_Angeles
BEGIN:DAYLIGHT
TZOFFSETFROM:-0800
TZOFFSETTO:-0700
TZNAME:PDT
DTSTART:20240310T100000
END:DAYLIGHT
BEGIN:STANDARD
TZOFFSETFROM:-0700
TZOFFSETTO:-0800
TZNAME:PST
DTSTART:20241103T090000
END:STANDARD
BEGIN:DAYLIGHT
TZOFFSETFROM:-0800
TZOFFSETTO:-0700
TZNAME:PDT
DTSTART:20250309T100000
END:DAYLIGHT
BEGIN:STANDARD
TZOFFSETFROM:-0700
TZOFFSETTO:-0800
TZNAME:PST
DTSTART:20251102T090000
END:STANDARD
BEGIN:DAYLIGHT
TZOFFSETFROM:-0800
TZOFFSETTO:-0700
TZNAME:PDT
DTSTART:20260308T100000
END:DAYLIGHT
BEGIN:STANDARD
TZOFFSETFROM:-0700
TZOFFSETTO:-0800
TZNAME:PST
DTSTART:20261101T090000
END:STANDARD
END:VTIMEZONE
BEGIN:VEVENT
DTSTART;VALUE=DATE:20250801
DTEND;VALUE=DATE:20250802
DTSTAMP:20260425T043341
CREATED:20250711T172050Z
LAST-MODIFIED:20250711T172050Z
UID:10000305-1754006400-1754092799@evergreenvirtual.org
SUMMARY:LIVE Elementary Summer Enrichment @ 10 am
DESCRIPTION:From June 23-August 8 EVA offers summer enrichment opportunities for students to stay engaged and connected.  These are not required to attend\, but an optional offering.  Join us if you can!  Reach out to your assigned engagement coach for the link. \nMonday is Middle School focused @10 am \nWednesday is High School focused @ 10 am \nFriday is Elementary focused @ 10 am
URL:https://evergreenvirtual.org/calendar/live-elementary-summer-enrichment-10-am/2025-08-01/
END:VEVENT
BEGIN:VEVENT
DTSTART;VALUE=DATE:20250804
DTEND;VALUE=DATE:20250805
DTSTAMP:20260425T043341
CREATED:20250711T171805Z
LAST-MODIFIED:20250711T172131Z
UID:10000188-1754265600-1754351999@evergreenvirtual.org
SUMMARY:LIVE Middle School Summer Enrichment @ 10 am
DESCRIPTION:From June 23-August 8 EVA offers summer enrichment opportunities for students to stay engaged and connected.  These are not required to attend\, but an optional offering.  Join us if you can!  Reach out to your assigned engagement coach for the link. \nMonday is Middle School focused @10 am \nWednesday is High School focused @ 10 am \nFriday is Elementary focused @ 10 am
URL:https://evergreenvirtual.org/calendar/live-middle-school-summer-enrichment-2/2025-08-04/
END:VEVENT
BEGIN:VEVENT
DTSTART;VALUE=DATE:20250808
DTEND;VALUE=DATE:20250809
DTSTAMP:20260425T043341
CREATED:20250711T172050Z
LAST-MODIFIED:20250711T172050Z
UID:10000306-1754611200-1754697599@evergreenvirtual.org
SUMMARY:LIVE Elementary Summer Enrichment @ 10 am
DESCRIPTION:From June 23-August 8 EVA offers summer enrichment opportunities for students to stay engaged and connected.  These are not required to attend\, but an optional offering.  Join us if you can!  Reach out to your assigned engagement coach for the link. \nMonday is Middle School focused @10 am \nWednesday is High School focused @ 10 am \nFriday is Elementary focused @ 10 am
URL:https://evergreenvirtual.org/calendar/live-elementary-summer-enrichment-10-am/2025-08-08/
END:VEVENT
BEGIN:VEVENT
DTSTART;VALUE=DATE:20250822
DTEND;VALUE=DATE:20250823
DTSTAMP:20260425T043341
CREATED:20250711T173522Z
LAST-MODIFIED:20250711T223709Z
UID:10000360-1755820800-1755907199@evergreenvirtual.org
SUMMARY:August Adventures EVenture
DESCRIPTION:Join us while we make connections\, build our EVA community\, and have fun at the Enchanted Forest in Turner\, OR or Wing & Waves Water Park in McMinnville\, OR.  Please see our Activities Corner for details.
URL:https://evergreenvirtual.org/calendar/august-adventures-eventure/
END:VEVENT
BEGIN:VEVENT
DTSTART;VALUE=DATE:20250828
DTEND;VALUE=DATE:20250829
DTSTAMP:20260425T043341
CREATED:20250918T002918Z
LAST-MODIFIED:20250918T002918Z
UID:10000414-1756339200-1756425599@evergreenvirtual.org
SUMMARY:EVA Board Meeting @ 6:30 pm
DESCRIPTION:You are invited to a Zoom webinar. \nWhen: The EVA Board of Directors monthly meetings are the fourth Thursday of each month at 6:30pm. Board work sessions are the second Thursday of each month.* \nTopic: EVA Board Meeting \n  \nPlease click the link below to join the webinar: \nJoin from PC\, Mac\, iPad\, or Android:\nhttps://evergreenvirtual-org.zoom.us/j/87931930355\n\nPhone one-tap:\n+12532158782\,\,87931930355# US (Tacoma)\n+13462487799\,\,87931930355# US (Houston)\n\nWebinar ID: 879 3193 0355\nInternational numbers available: https://evergreenvirtual-org.zoom.us/u/kc1pZfrudi\n  \n*Day and Time are subject to change
URL:https://evergreenvirtual.org/calendar/eva-board-meeting-630-pm-2/
END:VEVENT
END:VCALENDAR