BEGIN:VCALENDAR
VERSION:2.0
PRODID:-//Evergreen Virtual Academy - ECPv6.15.20//NONSGML v1.0//EN
CALSCALE:GREGORIAN
METHOD:PUBLISH
X-ORIGINAL-URL:https://evergreenvirtual.org
X-WR-CALDESC:Events for Evergreen Virtual Academy
REFRESH-INTERVAL;VALUE=DURATION:PT1H
X-Robots-Tag:noindex
X-PUBLISHED-TTL:PT1H
BEGIN:VTIMEZONE
TZID:America/Los_Angeles
BEGIN:DAYLIGHT
TZOFFSETFROM:-0800
TZOFFSETTO:-0700
TZNAME:PDT
DTSTART:20230312T100000
END:DAYLIGHT
BEGIN:STANDARD
TZOFFSETFROM:-0700
TZOFFSETTO:-0800
TZNAME:PST
DTSTART:20231105T090000
END:STANDARD
BEGIN:DAYLIGHT
TZOFFSETFROM:-0800
TZOFFSETTO:-0700
TZNAME:PDT
DTSTART:20240310T100000
END:DAYLIGHT
BEGIN:STANDARD
TZOFFSETFROM:-0700
TZOFFSETTO:-0800
TZNAME:PST
DTSTART:20241103T090000
END:STANDARD
BEGIN:DAYLIGHT
TZOFFSETFROM:-0800
TZOFFSETTO:-0700
TZNAME:PDT
DTSTART:20250309T100000
END:DAYLIGHT
BEGIN:STANDARD
TZOFFSETFROM:-0700
TZOFFSETTO:-0800
TZNAME:PST
DTSTART:20251102T090000
END:STANDARD
END:VTIMEZONE
BEGIN:VEVENT
DTSTART;TZID=America/Los_Angeles:20240721T100000
DTEND;TZID=America/Los_Angeles:20240721T180000
DTSTAMP:20260422T001506
CREATED:20240618T164149Z
LAST-MODIFIED:20240618T164149Z
UID:10000027-1721556000-1721584800@evergreenvirtual.org
SUMMARY:Tualatin Valley La Strada Festival
DESCRIPTION:Come meet our amazing staff and check out the EVA booth this weekend for some fun take-a-ways and learn more about our school!
URL:https://evergreenvirtual.org/calendar/tualatin-valley-la-strada-festival/2024-07-21/
LOCATION:Tualatin Valley La Strada Festival\, E Main St between 1st to 4th Ave\, Hillsboro\, OR\, 97123\, United States
END:VEVENT
BEGIN:VEVENT
DTSTART;TZID=America/Los_Angeles:20240720T100000
DTEND;TZID=America/Los_Angeles:20240720T180000
DTSTAMP:20260422T001506
CREATED:20240618T164149Z
LAST-MODIFIED:20240618T164149Z
UID:10000026-1721469600-1721498400@evergreenvirtual.org
SUMMARY:Tualatin Valley La Strada Festival
DESCRIPTION:Come meet our amazing staff and check out the EVA booth this weekend for some fun take-a-ways and learn more about our school!
URL:https://evergreenvirtual.org/calendar/tualatin-valley-la-strada-festival/2024-07-20/
LOCATION:Tualatin Valley La Strada Festival\, E Main St between 1st to 4th Ave\, Hillsboro\, OR\, 97123\, United States
END:VEVENT
END:VCALENDAR